BEGIN:VCALENDAR
VERSION:2.0
PRODID:-//Korskyrkan Uppsala - ECPv6.2.0.1//NONSGML v1.0//EN
CALSCALE:GREGORIAN
METHOD:PUBLISH
X-ORIGINAL-URL:https://www.korskyrkanuppsala.se
X-WR-CALDESC:Händelser för Korskyrkan Uppsala
REFRESH-INTERVAL;VALUE=DURATION:PT1H
X-Robots-Tag:noindex
X-PUBLISHED-TTL:PT1H
BEGIN:VTIMEZONE
TZID:Europe/Paris
BEGIN:DAYLIGHT
TZOFFSETFROM:+0100
TZOFFSETTO:+0200
TZNAME:CEST
DTSTART:20220327T010000
END:DAYLIGHT
BEGIN:STANDARD
TZOFFSETFROM:+0200
TZOFFSETTO:+0100
TZNAME:CET
DTSTART:20221030T010000
END:STANDARD
END:VTIMEZONE
BEGIN:VEVENT
DTSTART;TZID=Europe/Paris:20220802T120000
DTEND;TZID=Europe/Paris:20220807T130000
DTSTAMP:20260425T131951
CREATED:20220519T144222Z
LAST-MODIFIED:20220519T144222Z
UID:3445-1659441600-1659877200@www.korskyrkanuppsala.se
SUMMARY:Chili XL
DESCRIPTION:Den 2 till 7 augusti är det återigen dags för Chili XL på hjälmargården! Under lägret händer massa roliga saker som: morgonshow\, fotbollsturnering\, andakter\, fritid\, undervisning i kristen tro\, tävlingar\, happenings på kvällarna och mycket mer!\n\nLägret riktar sig till dig som är född mellan 2003-2009. Mer information och anmälan hittar du här. Anmälan görs via länken och till Simon Blomqvist senast den 24 juni.
URL:https://www.korskyrkanuppsala.se/kalender/chili-xl/
ATTACH;FMTTYPE=image/jpeg:https://www.korskyrkanuppsala.se/wp-content/uploads/2022/05/IMG_5665.jpg
END:VEVENT
END:VCALENDAR