BEGIN:VCALENDAR
VERSION:2.0
PRODID:-//Korskyrkan Uppsala - ECPv6.2.0.1//NONSGML v1.0//EN
CALSCALE:GREGORIAN
METHOD:PUBLISH
X-ORIGINAL-URL:https://www.korskyrkanuppsala.se
X-WR-CALDESC:Händelser för Korskyrkan Uppsala
REFRESH-INTERVAL;VALUE=DURATION:PT1H
X-Robots-Tag:noindex
X-PUBLISHED-TTL:PT1H
BEGIN:VTIMEZONE
TZID:Europe/Paris
BEGIN:DAYLIGHT
TZOFFSETFROM:+0100
TZOFFSETTO:+0200
TZNAME:CEST
DTSTART:20230326T010000
END:DAYLIGHT
BEGIN:STANDARD
TZOFFSETFROM:+0200
TZOFFSETTO:+0100
TZNAME:CET
DTSTART:20231029T010000
END:STANDARD
END:VTIMEZONE
BEGIN:VEVENT
DTSTART;TZID=Europe/Paris:20230122T110000
DTEND;TZID=Europe/Paris:20230122T123000
DTSTAMP:20260425T045225
CREATED:20221130T105537Z
LAST-MODIFIED:20221130T105537Z
UID:3968-1674385200-1674390600@www.korskyrkanuppsala.se
SUMMARY:Gudstjänst\, kl. 11
DESCRIPTION:Predikan av Simon Blomqvist.
URL:https://www.korskyrkanuppsala.se/kalender/gudstjanst-kl-11-48/
END:VEVENT
BEGIN:VEVENT
DTSTART;TZID=Europe/Paris:20230122T180000
DTEND;TZID=Europe/Paris:20230122T193000
DTSTAMP:20260425T045225
CREATED:20221130T105716Z
LAST-MODIFIED:20221130T105716Z
UID:3970-1674410400-1674415800@www.korskyrkanuppsala.se
SUMMARY:Ekumenisk gudstjänst i Lötenkyrkan
DESCRIPTION:Ekumenisk gudstjänst i böneveckan. Christoffer Abrahamsson och Anders Blåberg medverkar. \nPlats: Lötenkyrkan.
URL:https://www.korskyrkanuppsala.se/kalender/ekumenisk-gudstjanst-i-lotenkyrkan/
END:VEVENT
END:VCALENDAR