BEGIN:VCALENDAR
VERSION:2.0
PRODID:-//Korskyrkan Uppsala - ECPv6.2.0.1//NONSGML v1.0//EN
CALSCALE:GREGORIAN
METHOD:PUBLISH
X-ORIGINAL-URL:https://www.korskyrkanuppsala.se
X-WR-CALDESC:Händelser för Korskyrkan Uppsala
REFRESH-INTERVAL;VALUE=DURATION:PT1H
X-Robots-Tag:noindex
X-PUBLISHED-TTL:PT1H
BEGIN:VTIMEZONE
TZID:Europe/Paris
BEGIN:DAYLIGHT
TZOFFSETFROM:+0100
TZOFFSETTO:+0200
TZNAME:CEST
DTSTART:20230326T010000
END:DAYLIGHT
BEGIN:STANDARD
TZOFFSETFROM:+0200
TZOFFSETTO:+0100
TZNAME:CET
DTSTART:20231029T010000
END:STANDARD
END:VTIMEZONE
BEGIN:VEVENT
DTSTART;TZID=Europe/Paris:20230423T110000
DTEND;TZID=Europe/Paris:20230423T123000
DTSTAMP:20260425T005311
CREATED:20230112T135413Z
LAST-MODIFIED:20230112T135413Z
UID:4226-1682247600-1682253000@www.korskyrkanuppsala.se
SUMMARY:Gudstjänst\, kl. 11
DESCRIPTION:
URL:https://www.korskyrkanuppsala.se/kalender/gudstjanst-kl-11-60/
END:VEVENT
END:VCALENDAR