BEGIN:VCALENDAR
VERSION:2.0
PRODID:-//Korskyrkan Uppsala - ECPv6.2.0.1//NONSGML v1.0//EN
CALSCALE:GREGORIAN
METHOD:PUBLISH
X-ORIGINAL-URL:https://www.korskyrkanuppsala.se
X-WR-CALDESC:Händelser för Korskyrkan Uppsala
REFRESH-INTERVAL;VALUE=DURATION:PT1H
X-Robots-Tag:noindex
X-PUBLISHED-TTL:PT1H
BEGIN:VTIMEZONE
TZID:Europe/Paris
BEGIN:DAYLIGHT
TZOFFSETFROM:+0100
TZOFFSETTO:+0200
TZNAME:CEST
DTSTART:20220327T010000
END:DAYLIGHT
BEGIN:STANDARD
TZOFFSETFROM:+0200
TZOFFSETTO:+0100
TZNAME:CET
DTSTART:20221030T010000
END:STANDARD
END:VTIMEZONE
BEGIN:VEVENT
DTSTART;TZID=Europe/Paris:20220802T120000
DTEND;TZID=Europe/Paris:20220807T130000
DTSTAMP:20260425T223211
CREATED:20220519T144222Z
LAST-MODIFIED:20220519T144222Z
UID:3445-1659441600-1659877200@www.korskyrkanuppsala.se
SUMMARY:Chili XL
DESCRIPTION:Den 2 till 7 augusti är det återigen dags för Chili XL på hjälmargården! Under lägret händer massa roliga saker som: morgonshow\, fotbollsturnering\, andakter\, fritid\, undervisning i kristen tro\, tävlingar\, happenings på kvällarna och mycket mer!\n\nLägret riktar sig till dig som är född mellan 2003-2009. Mer information och anmälan hittar du här. Anmälan görs via länken och till Simon Blomqvist senast den 24 juni.
URL:https://www.korskyrkanuppsala.se/kalender/chili-xl/
ATTACH;FMTTYPE=image/jpeg:https://www.korskyrkanuppsala.se/wp-content/uploads/2022/05/IMG_5665.jpg
END:VEVENT
BEGIN:VEVENT
DTSTART;TZID=Europe/Paris:20220807T100000
DTEND;TZID=Europe/Paris:20220807T113000
DTSTAMP:20260425T223211
CREATED:20220519T145324Z
LAST-MODIFIED:20220519T145324Z
UID:3462-1659866400-1659871800@www.korskyrkanuppsala.se
SUMMARY:Gudstjänst\, kl. 10
DESCRIPTION:Anders Blåberg predikar.
URL:https://www.korskyrkanuppsala.se/kalender/gudstjanst-kl-10-6/
END:VEVENT
BEGIN:VEVENT
DTSTART;TZID=Europe/Paris:20220812T100000
DTEND;TZID=Europe/Paris:20220812T120000
DTSTAMP:20260425T223211
CREATED:20220614T092250Z
LAST-MODIFIED:20220614T092250Z
UID:3522-1660298400-1660305600@www.korskyrkanuppsala.se
SUMMARY:Fredagsbön
DESCRIPTION:Fredagsbönen möts varje fredag i kyrkan kl 10. Kom och var med och be en timme eller två.
URL:https://www.korskyrkanuppsala.se/kalender/fredagsbon-24/
END:VEVENT
BEGIN:VEVENT
DTSTART;TZID=Europe/Paris:20220814T100000
DTEND;TZID=Europe/Paris:20220814T113000
DTSTAMP:20260425T223211
CREATED:20220610T100532Z
LAST-MODIFIED:20220610T100820Z
UID:3511-1660471200-1660476600@www.korskyrkanuppsala.se
SUMMARY:Gudstjänst\, kl. 10
DESCRIPTION:Anders Blåberg predikar.
URL:https://www.korskyrkanuppsala.se/kalender/gudstjanst-kl-10-7/
END:VEVENT
BEGIN:VEVENT
DTSTART;TZID=Europe/Paris:20220819T100000
DTEND;TZID=Europe/Paris:20220819T120000
DTSTAMP:20260425T223211
CREATED:20220817T152021Z
LAST-MODIFIED:20220817T152021Z
UID:3593-1660903200-1660910400@www.korskyrkanuppsala.se
SUMMARY:Fredagsbön
DESCRIPTION:Fredagsbönen möts varje fredag i kyrkan kl 10. Kom och var med och be en timme eller två.
URL:https://www.korskyrkanuppsala.se/kalender/fredagsbon-25/
END:VEVENT
BEGIN:VEVENT
DTSTART;TZID=Europe/Paris:20220821T110000
DTEND;TZID=Europe/Paris:20220821T123000
DTSTAMP:20260425T223211
CREATED:20220610T100616Z
LAST-MODIFIED:20220610T100805Z
UID:3513-1661079600-1661085000@www.korskyrkanuppsala.se
SUMMARY:Gudstjänst\, kl. 11
DESCRIPTION:Daniel Lindqvist predikar.
URL:https://www.korskyrkanuppsala.se/kalender/gudstjanst-kl-11-27/
END:VEVENT
BEGIN:VEVENT
DTSTART;TZID=Europe/Paris:20220822T070000
DTEND;TZID=Europe/Paris:20220822T073000
DTSTAMP:20260425T223211
CREATED:20220817T141513Z
LAST-MODIFIED:20220817T141513Z
UID:3550-1661151600-1661153400@www.korskyrkanuppsala.se
SUMMARY:Bön
DESCRIPTION:Bönevecka. Vi träffas och ber tillsammans.
URL:https://www.korskyrkanuppsala.se/kalender/bon/
END:VEVENT
BEGIN:VEVENT
DTSTART;TZID=Europe/Paris:20220822T190000
DTEND;TZID=Europe/Paris:20220822T200000
DTSTAMP:20260425T223211
CREATED:20220817T141547Z
LAST-MODIFIED:20220817T141547Z
UID:3552-1661194800-1661198400@www.korskyrkanuppsala.se
SUMMARY:Bön
DESCRIPTION:Bönevecka. Vi träffas och ber tillsammans.
URL:https://www.korskyrkanuppsala.se/kalender/bon-2/
END:VEVENT
BEGIN:VEVENT
DTSTART;TZID=Europe/Paris:20220823T070000
DTEND;TZID=Europe/Paris:20220823T073000
DTSTAMP:20260425T223211
CREATED:20220817T141650Z
LAST-MODIFIED:20220817T141650Z
UID:3554-1661238000-1661239800@www.korskyrkanuppsala.se
SUMMARY:Bön
DESCRIPTION:Bönevecka. Vi träffas och ber tillsammans.
URL:https://www.korskyrkanuppsala.se/kalender/bon-3/
END:VEVENT
BEGIN:VEVENT
DTSTART;TZID=Europe/Paris:20220823T190000
DTEND;TZID=Europe/Paris:20220823T200000
DTSTAMP:20260425T223211
CREATED:20220817T141716Z
LAST-MODIFIED:20220817T141716Z
UID:3556-1661281200-1661284800@www.korskyrkanuppsala.se
SUMMARY:Bön
DESCRIPTION:Bönevecka. Vi träffas och ber tillsammans.
URL:https://www.korskyrkanuppsala.se/kalender/bon-4/
END:VEVENT
BEGIN:VEVENT
DTSTART;TZID=Europe/Paris:20220824T070000
DTEND;TZID=Europe/Paris:20220824T073000
DTSTAMP:20260425T223211
CREATED:20220817T141745Z
LAST-MODIFIED:20220817T141745Z
UID:3558-1661324400-1661326200@www.korskyrkanuppsala.se
SUMMARY:Bön
DESCRIPTION:Bönevecka. Vi träffas och ber tillsammans.
URL:https://www.korskyrkanuppsala.se/kalender/bon-5/
END:VEVENT
BEGIN:VEVENT
DTSTART;TZID=Europe/Paris:20220824T190000
DTEND;TZID=Europe/Paris:20220824T200000
DTSTAMP:20260425T223211
CREATED:20220817T141809Z
LAST-MODIFIED:20220817T141809Z
UID:3560-1661367600-1661371200@www.korskyrkanuppsala.se
SUMMARY:Bön
DESCRIPTION:Bönevecka. Vi träffas och ber tillsammans.
URL:https://www.korskyrkanuppsala.se/kalender/bon-6/
END:VEVENT
BEGIN:VEVENT
DTSTART;TZID=Europe/Paris:20220825T070000
DTEND;TZID=Europe/Paris:20220825T073000
DTSTAMP:20260425T223211
CREATED:20220817T141848Z
LAST-MODIFIED:20220817T141848Z
UID:3562-1661410800-1661412600@www.korskyrkanuppsala.se
SUMMARY:Bön
DESCRIPTION:Bönevecka. Vi träffas och ber tillsammans.
URL:https://www.korskyrkanuppsala.se/kalender/bon-7/
END:VEVENT
BEGIN:VEVENT
DTSTART;TZID=Europe/Paris:20220825T190000
DTEND;TZID=Europe/Paris:20220825T200000
DTSTAMP:20260425T223211
CREATED:20220817T141919Z
LAST-MODIFIED:20220817T141919Z
UID:3564-1661454000-1661457600@www.korskyrkanuppsala.se
SUMMARY:Bön
DESCRIPTION:Bönevecka. Vi träffas och ber tillsammans.
URL:https://www.korskyrkanuppsala.se/kalender/bon-8/
END:VEVENT
BEGIN:VEVENT
DTSTART;TZID=Europe/Paris:20220826T070000
DTEND;TZID=Europe/Paris:20220826T073000
DTSTAMP:20260425T223211
CREATED:20220817T141954Z
LAST-MODIFIED:20220817T141954Z
UID:3566-1661497200-1661499000@www.korskyrkanuppsala.se
SUMMARY:Bön
DESCRIPTION:Bönevecka. Vi träffas och ber tillsammans.
URL:https://www.korskyrkanuppsala.se/kalender/bon-9/
END:VEVENT
BEGIN:VEVENT
DTSTART;TZID=Europe/Paris:20220826T100000
DTEND;TZID=Europe/Paris:20220826T120000
DTSTAMP:20260425T223211
CREATED:20220817T152053Z
LAST-MODIFIED:20220817T152053Z
UID:3595-1661508000-1661515200@www.korskyrkanuppsala.se
SUMMARY:Fredagsbön
DESCRIPTION:Fredagsbönen möts varje fredag i kyrkan kl 10. Kom och var med och be en timme eller två.
URL:https://www.korskyrkanuppsala.se/kalender/fredagsbon-26/
END:VEVENT
BEGIN:VEVENT
DTSTART;TZID=Europe/Paris:20220826T190000
DTEND;TZID=Europe/Paris:20220826T200000
DTSTAMP:20260425T223211
CREATED:20220817T142024Z
LAST-MODIFIED:20220817T142024Z
UID:3568-1661540400-1661544000@www.korskyrkanuppsala.se
SUMMARY:Bön
DESCRIPTION:Bönevecka. Vi träffas och ber tillsammans.
URL:https://www.korskyrkanuppsala.se/kalender/bon-10/
END:VEVENT
BEGIN:VEVENT
DTSTART;TZID=Europe/Paris:20220827T070000
DTEND;TZID=Europe/Paris:20220827T073000
DTSTAMP:20260425T223211
CREATED:20220817T142054Z
LAST-MODIFIED:20220817T142054Z
UID:3570-1661583600-1661585400@www.korskyrkanuppsala.se
SUMMARY:Bön
DESCRIPTION:Bönevecka. Vi träffas och ber tillsammans.
URL:https://www.korskyrkanuppsala.se/kalender/bon-11/
END:VEVENT
BEGIN:VEVENT
DTSTART;TZID=Europe/Paris:20220827T190000
DTEND;TZID=Europe/Paris:20220827T200000
DTSTAMP:20260425T223211
CREATED:20220817T142123Z
LAST-MODIFIED:20220817T142123Z
UID:3572-1661626800-1661630400@www.korskyrkanuppsala.se
SUMMARY:Bön
DESCRIPTION:Bönevecka. Vi träffas och ber tillsammans.
URL:https://www.korskyrkanuppsala.se/kalender/bon-12/
END:VEVENT
BEGIN:VEVENT
DTSTART;TZID=Europe/Paris:20220828T110000
DTEND;TZID=Europe/Paris:20220828T123000
DTSTAMP:20260425T223211
CREATED:20220610T100731Z
LAST-MODIFIED:20220610T100750Z
UID:3515-1661684400-1661689800@www.korskyrkanuppsala.se
SUMMARY:Gudstjänst\, kl. 11
DESCRIPTION:Anders Blåberg predikar.
URL:https://www.korskyrkanuppsala.se/kalender/gudstjanst-kl-11-28/
END:VEVENT
BEGIN:VEVENT
DTSTART;TZID=Europe/Paris:20220901T190000
DTEND;TZID=Europe/Paris:20220901T203000
DTSTAMP:20260425T223211
CREATED:20220830T082954Z
LAST-MODIFIED:20220830T103102Z
UID:3641-1662058800-1662064200@www.korskyrkanuppsala.se
SUMMARY:Konsert med Peter Hallström
DESCRIPTION:Välkommen till konsert med Peter Hallström i Korskyrkan Uppsala\, torsdagen den 1/9 kl. 19.00. \nArrangör: Hela Människan Uppsala
URL:https://www.korskyrkanuppsala.se/kalender/konsert-med-peter-hallstrom/
ATTACH;FMTTYPE=image/jpeg:https://www.korskyrkanuppsala.se/wp-content/uploads/2022/08/affisch-Att-vara-manniska-Uppsala-A3-1-scaled-e1661855436671.jpg
END:VEVENT
BEGIN:VEVENT
DTSTART;TZID=Europe/Paris:20220902T100000
DTEND;TZID=Europe/Paris:20220902T120000
DTSTAMP:20260425T223211
CREATED:20220817T152122Z
LAST-MODIFIED:20220817T152122Z
UID:3597-1662112800-1662120000@www.korskyrkanuppsala.se
SUMMARY:Fredagsbön
DESCRIPTION:Fredagsbönen möts varje fredag i kyrkan kl 10. Kom och var med och be en timme eller två.
URL:https://www.korskyrkanuppsala.se/kalender/fredagsbon-27/
END:VEVENT
BEGIN:VEVENT
DTSTART;TZID=Europe/Paris:20220902T190000
DTEND;TZID=Europe/Paris:20220902T230000
DTSTAMP:20260425T223211
CREATED:20220913T091620Z
LAST-MODIFIED:20220913T091620Z
UID:3682-1662145200-1662159600@www.korskyrkanuppsala.se
SUMMARY:Club Växa
DESCRIPTION:
URL:https://www.korskyrkanuppsala.se/kalender/club-vaxa-15/
END:VEVENT
BEGIN:VEVENT
DTSTART;TZID=Europe/Paris:20220904T110000
DTEND;TZID=Europe/Paris:20220904T123000
DTSTAMP:20260425T223211
CREATED:20220817T142507Z
LAST-MODIFIED:20220817T142551Z
UID:3574-1662289200-1662294600@www.korskyrkanuppsala.se
SUMMARY:Gudstjänst\, kl. 11
DESCRIPTION:Daniel Lindqvist predikar. Nattvard.
URL:https://www.korskyrkanuppsala.se/kalender/gudstjanst-kl-11-29/
END:VEVENT
BEGIN:VEVENT
DTSTART;TZID=Europe/Paris:20220907T140000
DTEND;TZID=Europe/Paris:20220907T160000
DTSTAMP:20260425T223211
CREATED:20220907T081219Z
LAST-MODIFIED:20220907T081219Z
UID:3672-1662559200-1662566400@www.korskyrkanuppsala.se
SUMMARY:Dagledigträff
DESCRIPTION:”Matildas och andra kvinnors liv på 1800-talet”. Medverkande: Helena Lindström.
URL:https://www.korskyrkanuppsala.se/kalender/dagledigtraff-2/
END:VEVENT
BEGIN:VEVENT
DTSTART;TZID=Europe/Paris:20220907T190000
DTEND;TZID=Europe/Paris:20220907T210000
DTSTAMP:20260425T223211
CREATED:20220907T083858Z
LAST-MODIFIED:20220907T083858Z
UID:3674-1662577200-1662584400@www.korskyrkanuppsala.se
SUMMARY:Unga Vuxna
DESCRIPTION:Korskyrkans Unga Vuxna bjuder in till välkommen-fest med grill\, häng och gemenskap. Välkommen!
URL:https://www.korskyrkanuppsala.se/kalender/unga-vuxna/
ATTACH;FMTTYPE=image/jpeg:https://www.korskyrkanuppsala.se/wp-content/uploads/2022/09/IMG_1114.jpg
END:VEVENT
BEGIN:VEVENT
DTSTART;TZID=Europe/Paris:20220909T100000
DTEND;TZID=Europe/Paris:20220909T120000
DTSTAMP:20260425T223211
CREATED:20220817T152147Z
LAST-MODIFIED:20220817T152147Z
UID:3599-1662717600-1662724800@www.korskyrkanuppsala.se
SUMMARY:Fredagsbön
DESCRIPTION:Fredagsbönen möts varje fredag i kyrkan kl 10. Kom och var med och be en timme eller två.
URL:https://www.korskyrkanuppsala.se/kalender/fredagsbon-28/
END:VEVENT
BEGIN:VEVENT
DTSTART;TZID=Europe/Paris:20220909T190000
DTEND;TZID=Europe/Paris:20220909T230000
DTSTAMP:20260425T223211
CREATED:20220913T091646Z
LAST-MODIFIED:20220913T091646Z
UID:3684-1662750000-1662764400@www.korskyrkanuppsala.se
SUMMARY:Club Växa
DESCRIPTION:
URL:https://www.korskyrkanuppsala.se/kalender/club-vaxa-16/
END:VEVENT
BEGIN:VEVENT
DTSTART;TZID=Europe/Paris:20220911T110000
DTEND;TZID=Europe/Paris:20220911T123000
DTSTAMP:20260425T223211
CREATED:20220817T142633Z
LAST-MODIFIED:20220817T142633Z
UID:3577-1662894000-1662899400@www.korskyrkanuppsala.se
SUMMARY:Gudstjänst\, kl. 11
DESCRIPTION:Anders Blåberg predikar.
URL:https://www.korskyrkanuppsala.se/kalender/gudstjanst-kl-11-30/
END:VEVENT
BEGIN:VEVENT
DTSTART;TZID=Europe/Paris:20220912T180000
DTEND;TZID=Europe/Paris:20220912T200000
DTSTAMP:20260425T223211
CREATED:20220913T093052Z
LAST-MODIFIED:20220913T093052Z
UID:3688-1663005600-1663012800@www.korskyrkanuppsala.se
SUMMARY:Ny i Uppsala
DESCRIPTION:Måndag 12 september är du\, som är ny i Uppsala och letar efter ett kristet sammanhang att höra hemma i\, varmt välkommen till Korskyrkan Uppsala! Det blir grillning\, utespel\, mingel\, god gemenskap och bra tillfälle att lära känna andra unga vuxna och möta Uppsalas kyrkor och andra kristna sammanhang.\n\nVi ser fram emot att träffa just dig!
URL:https://www.korskyrkanuppsala.se/kalender/ny-i-uppsala/
ATTACH;FMTTYPE=image/jpeg:https://www.korskyrkanuppsala.se/wp-content/uploads/2022/09/NyiStan2022_IG_FB.jpg
END:VEVENT
END:VCALENDAR