BEGIN:VCALENDAR
VERSION:2.0
PRODID:-//Korskyrkan Uppsala - ECPv6.2.0.1//NONSGML v1.0//EN
CALSCALE:GREGORIAN
METHOD:PUBLISH
X-ORIGINAL-URL:https://www.korskyrkanuppsala.se
X-WR-CALDESC:Händelser för Korskyrkan Uppsala
REFRESH-INTERVAL;VALUE=DURATION:PT1H
X-Robots-Tag:noindex
X-PUBLISHED-TTL:PT1H
BEGIN:VTIMEZONE
TZID:Europe/Paris
BEGIN:DAYLIGHT
TZOFFSETFROM:+0100
TZOFFSETTO:+0200
TZNAME:CEST
DTSTART:20220327T010000
END:DAYLIGHT
BEGIN:STANDARD
TZOFFSETFROM:+0200
TZOFFSETTO:+0100
TZNAME:CET
DTSTART:20221030T010000
END:STANDARD
BEGIN:DAYLIGHT
TZOFFSETFROM:+0100
TZOFFSETTO:+0200
TZNAME:CEST
DTSTART:20230326T010000
END:DAYLIGHT
BEGIN:STANDARD
TZOFFSETFROM:+0200
TZOFFSETTO:+0100
TZNAME:CET
DTSTART:20231029T010000
END:STANDARD
END:VTIMEZONE
BEGIN:VEVENT
DTSTART;TZID=Europe/Paris:20221231T180000
DTEND;TZID=Europe/Paris:20221231T235900
DTSTAMP:20260425T134426
CREATED:20221128T130442Z
LAST-MODIFIED:20221213T084843Z
UID:3946-1672509600-1672531140@www.korskyrkanuppsala.se
SUMMARY:Nyårsfest
DESCRIPTION:Välkommen att vara med på nyårsfirande i Korskyrkan. \nMat\, gemenskap och program från kl. 18.00 fram till midnatt. \nKnytkalas tillämpas! \nAnmälan kan antingen göras på lista i kyrkan eller via mail till info@korskyrkanuppsala.se. I anmälan skriver du också vad du tar med dig till middagen. Läs mer här. \n 
URL:https://www.korskyrkanuppsala.se/kalender/nyarsfest/
ATTACH;FMTTYPE=image/png:https://www.korskyrkanuppsala.se/wp-content/uploads/2022/12/Nyarsfirande-Korskyrkan.png
END:VEVENT
BEGIN:VEVENT
DTSTART;TZID=Europe/Paris:20230101T110000
DTEND;TZID=Europe/Paris:20230101T113000
DTSTAMP:20260425T134426
CREATED:20221129T104631Z
LAST-MODIFIED:20221213T085225Z
UID:3948-1672570800-1672572600@www.korskyrkanuppsala.se
SUMMARY:Gudstjänst\, kl. 11
DESCRIPTION:Välkommen till gudstjänst på nyårsdagen! \nAnders Blåberg predikar och vi firar nattvard.
URL:https://www.korskyrkanuppsala.se/kalender/gudstjanst-kl-11-45/
END:VEVENT
BEGIN:VEVENT
DTSTART;TZID=Europe/Paris:20230106T100000
DTEND;TZID=Europe/Paris:20230106T120000
DTSTAMP:20260425T134426
CREATED:20221213T132216Z
LAST-MODIFIED:20221213T132216Z
UID:4045-1672999200-1673006400@www.korskyrkanuppsala.se
SUMMARY:Fredagsbön
DESCRIPTION:Fredagsbönen möts varje fredag i kyrkan kl 10. Kom och var med och be en timme eller två.
URL:https://www.korskyrkanuppsala.se/kalender/fredagsbon-43/
END:VEVENT
BEGIN:VEVENT
DTSTART;TZID=Europe/Paris:20230108T110000
DTEND;TZID=Europe/Paris:20230108T123000
DTSTAMP:20260425T134426
CREATED:20221130T105138Z
LAST-MODIFIED:20221130T105138Z
UID:3962-1673175600-1673181000@www.korskyrkanuppsala.se
SUMMARY:Gudstjänst\, kl. 11
DESCRIPTION:Predikan: Daniel Lindqvist.
URL:https://www.korskyrkanuppsala.se/kalender/gudstjanst-kl-11-46/
END:VEVENT
BEGIN:VEVENT
DTSTART;TZID=Europe/Paris:20230109T190000
DTEND;TZID=Europe/Paris:20230109T200000
DTSTAMP:20260425T134426
CREATED:20221130T110318Z
LAST-MODIFIED:20230111T103308Z
UID:3978-1673290800-1673294400@www.korskyrkanuppsala.se
SUMMARY:Gemensam bön
DESCRIPTION:Församlingens bönevecka pågår mellan 9-14 januari. \nVarje kväll under veckan\, kl. 19.00\, träffas vi för att be tillsammans i kyrkan.
URL:https://www.korskyrkanuppsala.se/kalender/gemensam-bon/
END:VEVENT
BEGIN:VEVENT
DTSTART;TZID=Europe/Paris:20230110T190000
DTEND;TZID=Europe/Paris:20230110T200000
DTSTAMP:20260425T134426
CREATED:20221130T110541Z
LAST-MODIFIED:20230111T103354Z
UID:3980-1673377200-1673380800@www.korskyrkanuppsala.se
SUMMARY:Gemensam bön
DESCRIPTION:Församlingens bönevecka pågår mellan 9-14 januari. \nVarje kväll under veckan (måndag-lördag)\, kl. 19.00\, träffas vi för att be tillsammans i kyrkan. \nUnder bönesamlingen på tisdagen den 10/1 får vi besök av Lara och Johannes Roswall\, som är missionärer i Grekland.
URL:https://www.korskyrkanuppsala.se/kalender/gemensam-bon-2/
END:VEVENT
BEGIN:VEVENT
DTSTART;TZID=Europe/Paris:20230111T190000
DTEND;TZID=Europe/Paris:20230111T200000
DTSTAMP:20260425T134426
CREATED:20221130T110615Z
LAST-MODIFIED:20230111T103202Z
UID:3982-1673463600-1673467200@www.korskyrkanuppsala.se
SUMMARY:Gemensam bön
DESCRIPTION:Församlingens bönevecka pågår mellan 9-14 januari. \nVarje kväll under veckan (måndag-lördag)\, kl. 19.00\, träffas vi för att be tillsammans i kyrkan.
URL:https://www.korskyrkanuppsala.se/kalender/gemensam-bon-3/
END:VEVENT
BEGIN:VEVENT
DTSTART;TZID=Europe/Paris:20230112T190000
DTEND;TZID=Europe/Paris:20230112T200000
DTSTAMP:20260425T134426
CREATED:20221130T110642Z
LAST-MODIFIED:20230111T103135Z
UID:3984-1673550000-1673553600@www.korskyrkanuppsala.se
SUMMARY:Gemensam bön
DESCRIPTION:Församlingens bönevecka pågår mellan 9-14 januari. \nVarje kväll under veckan (måndag-lördag)\, kl. 19.00\, träffas vi för att be tillsammans i kyrkan.
URL:https://www.korskyrkanuppsala.se/kalender/gemensam-bon-4/
END:VEVENT
BEGIN:VEVENT
DTSTART;TZID=Europe/Paris:20230113T100000
DTEND;TZID=Europe/Paris:20230113T120000
DTSTAMP:20260425T134426
CREATED:20221213T132243Z
LAST-MODIFIED:20221213T132243Z
UID:4047-1673604000-1673611200@www.korskyrkanuppsala.se
SUMMARY:Fredagsbön
DESCRIPTION:Fredagsbönen möts varje fredag i kyrkan kl 10. Kom och var med och be en timme eller två.
URL:https://www.korskyrkanuppsala.se/kalender/fredagsbon-44/
END:VEVENT
BEGIN:VEVENT
DTSTART;TZID=Europe/Paris:20230113T190000
DTEND;TZID=Europe/Paris:20230113T200000
DTSTAMP:20260425T134426
CREATED:20221130T110821Z
LAST-MODIFIED:20230111T094423Z
UID:3986-1673636400-1673640000@www.korskyrkanuppsala.se
SUMMARY:Gemensam bön\, med Club
DESCRIPTION:Församlingens bönevecka pågår mellan 9-14 januari. \nVarje kväll under veckan (måndag-lördag)\, kl. 19.00\, träffas vi för att be tillsammans i kyrkan. \nFredagen den 13/1 samordnas bönen med Club (Korskyrkans arbete för tonåringar). Välkommen att vara med!
URL:https://www.korskyrkanuppsala.se/kalender/gemensam-bon-med-club/
END:VEVENT
BEGIN:VEVENT
DTSTART;TZID=Europe/Paris:20230114T190000
DTEND;TZID=Europe/Paris:20230114T200000
DTSTAMP:20260425T134426
CREATED:20230111T094359Z
LAST-MODIFIED:20230111T094359Z
UID:4149-1673722800-1673726400@www.korskyrkanuppsala.se
SUMMARY:Gemensam bön
DESCRIPTION:Församlingens bönevecka pågår mellan 9-14 januari. \nVarje kväll under veckan (måndag-lördag)\, kl. 19.00\, träffas vi för att be tillsammans i kyrkan.
URL:https://www.korskyrkanuppsala.se/kalender/gemensam-bon-5/
END:VEVENT
BEGIN:VEVENT
DTSTART;TZID=Europe/Paris:20230115T110000
DTEND;TZID=Europe/Paris:20230115T123000
DTSTAMP:20260425T134426
CREATED:20221130T105419Z
LAST-MODIFIED:20230111T150346Z
UID:3964-1673780400-1673785800@www.korskyrkanuppsala.se
SUMMARY:Gudstjänst\, kl. 11
DESCRIPTION:Gudstjänst. Predikan av Anders Blåberg utifrån temat ”Älska din församling”. \nKompisklubben startar för terminen! \nVälkommen!
URL:https://www.korskyrkanuppsala.se/kalender/gudstjanst-kl-11-47/
ATTACH;FMTTYPE=image/png:https://www.korskyrkanuppsala.se/wp-content/uploads/2022/11/Gudstjanst-12.png
END:VEVENT
BEGIN:VEVENT
DTSTART;TZID=Europe/Paris:20230118T140000
DTEND;TZID=Europe/Paris:20230118T160000
DTSTAMP:20260425T134426
CREATED:20221213T104413Z
LAST-MODIFIED:20221213T104413Z
UID:4031-1674050400-1674057600@www.korskyrkanuppsala.se
SUMMARY:Dagledigträff
DESCRIPTION:Välkommen till dagledigträff i Korskyrkan onsdagen den 18 januari.\nTema: ”Ljuset lyser i mörkret”\, med pastor Anders Sundström från Open doors.
URL:https://www.korskyrkanuppsala.se/kalender/dagledigtraff-3/
END:VEVENT
BEGIN:VEVENT
DTSTART;TZID=Europe/Paris:20230118T190000
DTEND;TZID=Europe/Paris:20230118T210000
DTSTAMP:20260425T134426
CREATED:20230112T134730Z
LAST-MODIFIED:20230112T134730Z
UID:4208-1674068400-1674075600@www.korskyrkanuppsala.se
SUMMARY:Unga vuxna - Lovsångsgudstjänst
DESCRIPTION:Välkommen på vårens första Unga Vuxna-träff oavsett om det är första gången eller om du varit med sen länge!\nJohanna Hultmar kommer att predika och det blir även lovsång och möjlighet till förbön.\nEfteråt fikar vi och umgås.
URL:https://www.korskyrkanuppsala.se/kalender/unga-vuxna-lovsangsgudstjanst/
ATTACH;FMTTYPE=image/png:https://www.korskyrkanuppsala.se/wp-content/uploads/2023/01/Lovsangsgudstjanst-4.png
END:VEVENT
BEGIN:VEVENT
DTSTART;TZID=Europe/Paris:20230119T140000
DTEND;TZID=Europe/Paris:20230119T160000
DTSTAMP:20260425T134426
CREATED:20221213T120957Z
LAST-MODIFIED:20230112T132921Z
UID:4041-1674136800-1674144000@www.korskyrkanuppsala.se
SUMMARY:Café Korskyrkan
DESCRIPTION:Välkommen till Café Korskyrkan – ett bra tillfälle att öva svenska och lära känna nya vänner. \nTorsdagar\, kl. 14-16 i Korskyrkan Uppsala.
URL:https://www.korskyrkanuppsala.se/kalender/cafe-korskyrkan-9/
ATTACH;FMTTYPE=image/png:https://www.korskyrkanuppsala.se/wp-content/uploads/2022/12/Sprakcafe-5.png
END:VEVENT
BEGIN:VEVENT
DTSTART;TZID=Europe/Paris:20230119T183000
DTEND;TZID=Europe/Paris:20230119T200000
DTSTAMP:20260425T134426
CREATED:20221213T085902Z
LAST-MODIFIED:20221213T085902Z
UID:4028-1674153000-1674158400@www.korskyrkanuppsala.se
SUMMARY:Besök i "Översättarverkstaden" - Samling i Lötenkyrkan
DESCRIPTION:Tid och plats: 19 januari\, kl. 18.30 i Lötenkyrkan. \nSvenska Bibelsällskapet översätter just nu Nya testamentet. Välkommen till en kväll där du får veta mer om översättningen och till och med testa på hur det är att vara bibelöversättare. Olof Brandt håller i kvällen.
URL:https://www.korskyrkanuppsala.se/kalender/besok-i-oversattarverkstaden-samling-i-lotenkyrkan/
ATTACH;FMTTYPE=image/jpeg:https://www.korskyrkanuppsala.se/wp-content/uploads/2022/12/kvadrat-oversattarverkstaden.jpg
END:VEVENT
BEGIN:VEVENT
DTSTART;TZID=Europe/Paris:20230120T100000
DTEND;TZID=Europe/Paris:20230120T120000
DTSTAMP:20260425T134426
CREATED:20221213T132315Z
LAST-MODIFIED:20221213T132315Z
UID:4049-1674208800-1674216000@www.korskyrkanuppsala.se
SUMMARY:Fredagsbön
DESCRIPTION:Fredagsbönen möts varje fredag i kyrkan kl 10. Kom och var med och be en timme eller två.
URL:https://www.korskyrkanuppsala.se/kalender/fredagsbon-45/
END:VEVENT
BEGIN:VEVENT
DTSTART;TZID=Europe/Paris:20230120T190000
DTEND;TZID=Europe/Paris:20230120T230000
DTSTAMP:20260425T134426
CREATED:20221220T084633Z
LAST-MODIFIED:20221220T084633Z
UID:4080-1674241200-1674255600@www.korskyrkanuppsala.se
SUMMARY:Club Växa
DESCRIPTION:
URL:https://www.korskyrkanuppsala.se/kalender/club-vaxa-30/
END:VEVENT
BEGIN:VEVENT
DTSTART;TZID=Europe/Paris:20230121T180000
DTEND;TZID=Europe/Paris:20230121T200000
DTSTAMP:20260425T134426
CREATED:20221130T105458Z
LAST-MODIFIED:20230111T152021Z
UID:3966-1674324000-1674331200@www.korskyrkanuppsala.se
SUMMARY:Musikcafé med Maria Niklasson
DESCRIPTION:
URL:https://www.korskyrkanuppsala.se/kalender/musikcafe-med-maria-niklasson/
ATTACH;FMTTYPE=application/pdf:https://www.korskyrkanuppsala.se/wp-content/uploads/2022/11/Musik-Cafe.pdf
END:VEVENT
BEGIN:VEVENT
DTSTART;TZID=Europe/Paris:20230122T110000
DTEND;TZID=Europe/Paris:20230122T123000
DTSTAMP:20260425T134426
CREATED:20221130T105537Z
LAST-MODIFIED:20221130T105537Z
UID:3968-1674385200-1674390600@www.korskyrkanuppsala.se
SUMMARY:Gudstjänst\, kl. 11
DESCRIPTION:Predikan av Simon Blomqvist.
URL:https://www.korskyrkanuppsala.se/kalender/gudstjanst-kl-11-48/
END:VEVENT
BEGIN:VEVENT
DTSTART;TZID=Europe/Paris:20230122T180000
DTEND;TZID=Europe/Paris:20230122T193000
DTSTAMP:20260425T134426
CREATED:20221130T105716Z
LAST-MODIFIED:20221130T105716Z
UID:3970-1674410400-1674415800@www.korskyrkanuppsala.se
SUMMARY:Ekumenisk gudstjänst i Lötenkyrkan
DESCRIPTION:Ekumenisk gudstjänst i böneveckan. Christoffer Abrahamsson och Anders Blåberg medverkar. \nPlats: Lötenkyrkan.
URL:https://www.korskyrkanuppsala.se/kalender/ekumenisk-gudstjanst-i-lotenkyrkan/
END:VEVENT
BEGIN:VEVENT
DTSTART;TZID=Europe/Paris:20230126T140000
DTEND;TZID=Europe/Paris:20230126T160000
DTSTAMP:20260425T134426
CREATED:20221213T121024Z
LAST-MODIFIED:20230112T133019Z
UID:4043-1674741600-1674748800@www.korskyrkanuppsala.se
SUMMARY:Café Korskyrkan
DESCRIPTION:Välkommen till Café Korskyrkan – ett bra tillfälle att öva svenska och lära känna nya vänner. \nTorsdagar\, kl. 14-16 i Korskyrkan Uppsala.
URL:https://www.korskyrkanuppsala.se/kalender/cafe-korskyrkan-10/
ATTACH;FMTTYPE=image/png:https://www.korskyrkanuppsala.se/wp-content/uploads/2022/12/Sprakcafe-5.png
END:VEVENT
BEGIN:VEVENT
DTSTART;TZID=Europe/Paris:20230127T100000
DTEND;TZID=Europe/Paris:20230127T120000
DTSTAMP:20260425T134426
CREATED:20221213T132341Z
LAST-MODIFIED:20221213T132341Z
UID:4051-1674813600-1674820800@www.korskyrkanuppsala.se
SUMMARY:Fredagsbön
DESCRIPTION:Fredagsbönen möts varje fredag i kyrkan kl 10. Kom och var med och be en timme eller två.
URL:https://www.korskyrkanuppsala.se/kalender/fredagsbon-46/
END:VEVENT
BEGIN:VEVENT
DTSTART;TZID=Europe/Paris:20230127T190000
DTEND;TZID=Europe/Paris:20230127T230000
DTSTAMP:20260425T134426
CREATED:20221220T084656Z
LAST-MODIFIED:20221220T084656Z
UID:4082-1674846000-1674860400@www.korskyrkanuppsala.se
SUMMARY:Club Växa
DESCRIPTION:
URL:https://www.korskyrkanuppsala.se/kalender/club-vaxa-31/
END:VEVENT
BEGIN:VEVENT
DTSTART;TZID=Europe/Paris:20230129T110000
DTEND;TZID=Europe/Paris:20230129T123000
DTSTAMP:20260425T134426
CREATED:20221130T105855Z
LAST-MODIFIED:20221130T105855Z
UID:3972-1674990000-1674995400@www.korskyrkanuppsala.se
SUMMARY:Gudstjänst\, kl. 11
DESCRIPTION:Predikan av Anders Blåberg.
URL:https://www.korskyrkanuppsala.se/kalender/gudstjanst-kl-11-49/
END:VEVENT
BEGIN:VEVENT
DTSTART;TZID=Europe/Paris:20230129T130000
DTEND;TZID=Europe/Paris:20230129T143000
DTSTAMP:20260425T134426
CREATED:20221130T105942Z
LAST-MODIFIED:20221130T105942Z
UID:3974-1674997200-1675002600@www.korskyrkanuppsala.se
SUMMARY:Församlingsmöte
DESCRIPTION:Församlingsmöte med nomineringar inför årsmötet.
URL:https://www.korskyrkanuppsala.se/kalender/forsamlingsmote-13/
END:VEVENT
BEGIN:VEVENT
DTSTART;TZID=Europe/Paris:20230202T140000
DTEND;TZID=Europe/Paris:20230202T160000
DTSTAMP:20260425T134426
CREATED:20230112T133425Z
LAST-MODIFIED:20230112T133425Z
UID:4189-1675346400-1675353600@www.korskyrkanuppsala.se
SUMMARY:Café Korskyrkan
DESCRIPTION:Välkommen till Café Korskyrkan – ett bra tillfälle att öva svenska och lära känna nya vänner. \nTorsdagar\, kl. 14-16 i Korskyrkan Uppsala.
URL:https://www.korskyrkanuppsala.se/kalender/cafe-korskyrkan-11/
ATTACH;FMTTYPE=image/png:https://www.korskyrkanuppsala.se/wp-content/uploads/2022/12/Sprakcafe-5.png
END:VEVENT
BEGIN:VEVENT
DTSTART;TZID=Europe/Paris:20230203T100000
DTEND;TZID=Europe/Paris:20230203T120000
DTSTAMP:20260425T134426
CREATED:20221213T132410Z
LAST-MODIFIED:20221213T132410Z
UID:4053-1675418400-1675425600@www.korskyrkanuppsala.se
SUMMARY:Fredagsbön
DESCRIPTION:Fredagsbönen möts varje fredag i kyrkan kl 10. Kom och var med och be en timme eller två.
URL:https://www.korskyrkanuppsala.se/kalender/fredagsbon-47/
END:VEVENT
BEGIN:VEVENT
DTSTART;TZID=Europe/Paris:20230203T190000
DTEND;TZID=Europe/Paris:20230203T230000
DTSTAMP:20260425T134426
CREATED:20221220T084722Z
LAST-MODIFIED:20221220T084722Z
UID:4084-1675450800-1675465200@www.korskyrkanuppsala.se
SUMMARY:Club Växa
DESCRIPTION:
URL:https://www.korskyrkanuppsala.se/kalender/club-vaxa-32/
END:VEVENT
BEGIN:VEVENT
DTSTART;TZID=Europe/Paris:20230205T110000
DTEND;TZID=Europe/Paris:20230205T123000
DTSTAMP:20260425T134426
CREATED:20221130T110024Z
LAST-MODIFIED:20221130T110024Z
UID:3976-1675594800-1675600200@www.korskyrkanuppsala.se
SUMMARY:Gudstjänst\, kl. 11
DESCRIPTION:Predikan av Anders Blåberg. \nNattvard.
URL:https://www.korskyrkanuppsala.se/kalender/gudstjanst-kl-11-50/
END:VEVENT
END:VCALENDAR