BEGIN:VCALENDAR
VERSION:2.0
PRODID:-//Korskyrkan Uppsala - ECPv6.2.0.1//NONSGML v1.0//EN
CALSCALE:GREGORIAN
METHOD:PUBLISH
X-ORIGINAL-URL:https://www.korskyrkanuppsala.se
X-WR-CALDESC:Händelser för Korskyrkan Uppsala
REFRESH-INTERVAL;VALUE=DURATION:PT1H
X-Robots-Tag:noindex
X-PUBLISHED-TTL:PT1H
BEGIN:VTIMEZONE
TZID:Europe/Paris
BEGIN:DAYLIGHT
TZOFFSETFROM:+0100
TZOFFSETTO:+0200
TZNAME:CEST
DTSTART:20230326T010000
END:DAYLIGHT
BEGIN:STANDARD
TZOFFSETFROM:+0200
TZOFFSETTO:+0100
TZNAME:CET
DTSTART:20231029T010000
END:STANDARD
END:VTIMEZONE
BEGIN:VEVENT
DTSTART;TZID=Europe/Paris:20230302T140000
DTEND;TZID=Europe/Paris:20230302T160000
DTSTAMP:20260425T011256
CREATED:20230112T133815Z
LAST-MODIFIED:20230112T133815Z
UID:4197-1677765600-1677772800@www.korskyrkanuppsala.se
SUMMARY:Café Korskyrkan
DESCRIPTION:Välkommen till Café Korskyrkan – ett bra tillfälle att öva svenska och lära känna nya vänner. \nTorsdagar\, kl. 14-16 i Korskyrkan Uppsala.
URL:https://www.korskyrkanuppsala.se/kalender/cafe-korskyrkan-15/
ATTACH;FMTTYPE=image/png:https://www.korskyrkanuppsala.se/wp-content/uploads/2022/12/Sprakcafe-5.png
END:VEVENT
BEGIN:VEVENT
DTSTART;TZID=Europe/Paris:20230303T100000
DTEND;TZID=Europe/Paris:20230303T110000
DTSTAMP:20260425T011256
CREATED:20230307T120150Z
LAST-MODIFIED:20230307T120150Z
UID:4383-1677837600-1677841200@www.korskyrkanuppsala.se
SUMMARY:Fredagsbön
DESCRIPTION:Fredagsbönen möts varje fredag i kyrkan kl 10. Kom och var med och be en timme eller två.
URL:https://www.korskyrkanuppsala.se/kalender/fredagsbon-51/
END:VEVENT
BEGIN:VEVENT
DTSTART;TZID=Europe/Paris:20230305T110000
DTEND;TZID=Europe/Paris:20230305T123000
DTSTAMP:20260425T011256
CREATED:20230112T135025Z
LAST-MODIFIED:20230112T135025Z
UID:4211-1678014000-1678019400@www.korskyrkanuppsala.se
SUMMARY:Gudstjänst\, kl. 11
DESCRIPTION:
URL:https://www.korskyrkanuppsala.se/kalender/gudstjanst-kl-11-54/
END:VEVENT
BEGIN:VEVENT
DTSTART;TZID=Europe/Paris:20230307T183000
DTEND;TZID=Europe/Paris:20230307T203000
DTSTAMP:20260425T011256
CREATED:20230111T141703Z
LAST-MODIFIED:20230111T141703Z
UID:4169-1678213800-1678221000@www.korskyrkanuppsala.se
SUMMARY:Alpha
DESCRIPTION:
URL:https://www.korskyrkanuppsala.se/kalender/alpha-13/
ATTACH;FMTTYPE=image/jpeg:https://www.korskyrkanuppsala.se/wp-content/uploads/2023/01/Instagram_-Alpha.P02.jpeg
END:VEVENT
BEGIN:VEVENT
DTSTART;TZID=Europe/Paris:20230309T140000
DTEND;TZID=Europe/Paris:20230309T160000
DTSTAMP:20260425T011256
CREATED:20230112T133850Z
LAST-MODIFIED:20230112T133850Z
UID:4200-1678370400-1678377600@www.korskyrkanuppsala.se
SUMMARY:Café Korskyrkan
DESCRIPTION:Välkommen till Café Korskyrkan – ett bra tillfälle att öva svenska och lära känna nya vänner. \nTorsdagar\, kl. 14-16 i Korskyrkan Uppsala.
URL:https://www.korskyrkanuppsala.se/kalender/cafe-korskyrkan-16/
ATTACH;FMTTYPE=image/png:https://www.korskyrkanuppsala.se/wp-content/uploads/2022/12/Sprakcafe-5.png
END:VEVENT
BEGIN:VEVENT
DTSTART;TZID=Europe/Paris:20230310T100000
DTEND;TZID=Europe/Paris:20230310T110000
DTSTAMP:20260425T011256
CREATED:20230307T120256Z
LAST-MODIFIED:20230307T120256Z
UID:4385-1678442400-1678446000@www.korskyrkanuppsala.se
SUMMARY:Fredagsbön
DESCRIPTION:Fredagsbönen möts varje fredag i kyrkan kl 10. Kom och var med och be en timme eller två.
URL:https://www.korskyrkanuppsala.se/kalender/fredagsbon-52/
END:VEVENT
BEGIN:VEVENT
DTSTART;TZID=Europe/Paris:20230312T110000
DTEND;TZID=Europe/Paris:20230312T123000
DTSTAMP:20260425T011256
CREATED:20230112T135055Z
LAST-MODIFIED:20230112T135055Z
UID:4214-1678618800-1678624200@www.korskyrkanuppsala.se
SUMMARY:Gudstjänst\, kl. 11
DESCRIPTION:
URL:https://www.korskyrkanuppsala.se/kalender/gudstjanst-kl-11-55/
END:VEVENT
BEGIN:VEVENT
DTSTART;TZID=Europe/Paris:20230314T183000
DTEND;TZID=Europe/Paris:20230314T203000
DTSTAMP:20260425T011256
CREATED:20230111T141740Z
LAST-MODIFIED:20230111T141740Z
UID:4171-1678818600-1678825800@www.korskyrkanuppsala.se
SUMMARY:Alpha
DESCRIPTION:
URL:https://www.korskyrkanuppsala.se/kalender/alpha-14/
ATTACH;FMTTYPE=image/jpeg:https://www.korskyrkanuppsala.se/wp-content/uploads/2023/01/Instagram_-Alpha.P02.jpeg
END:VEVENT
BEGIN:VEVENT
DTSTART;TZID=Europe/Paris:20230315T190000
DTEND;TZID=Europe/Paris:20230315T210000
DTSTAMP:20260425T011256
CREATED:20230119T095624Z
LAST-MODIFIED:20230119T095637Z
UID:4242-1678906800-1678914000@www.korskyrkanuppsala.se
SUMMARY:Unga vuxna
DESCRIPTION:Mer information kommer.
URL:https://www.korskyrkanuppsala.se/kalender/unga-vuxna-2/
END:VEVENT
BEGIN:VEVENT
DTSTART;TZID=Europe/Paris:20230316T140000
DTEND;TZID=Europe/Paris:20230316T160000
DTSTAMP:20260425T011256
CREATED:20230112T133942Z
LAST-MODIFIED:20230112T133942Z
UID:4202-1678975200-1678982400@www.korskyrkanuppsala.se
SUMMARY:Café Korskyrkan
DESCRIPTION:Välkommen till Café Korskyrkan – ett bra tillfälle att öva svenska och lära känna nya vänner. \nTorsdagar\, kl. 14-16 i Korskyrkan Uppsala.
URL:https://www.korskyrkanuppsala.se/kalender/cafe-korskyrkan-17/
ATTACH;FMTTYPE=image/png:https://www.korskyrkanuppsala.se/wp-content/uploads/2022/12/Sprakcafe-5.png
END:VEVENT
BEGIN:VEVENT
DTSTART;TZID=Europe/Paris:20230317T100000
DTEND;TZID=Europe/Paris:20230317T110000
DTSTAMP:20260425T011256
CREATED:20230307T120330Z
LAST-MODIFIED:20230307T120330Z
UID:4387-1679047200-1679050800@www.korskyrkanuppsala.se
SUMMARY:Fredagsbön
DESCRIPTION:Fredagsbönen möts varje fredag i kyrkan kl 10. Kom och var med och be en timme eller två.
URL:https://www.korskyrkanuppsala.se/kalender/fredagsbon-53/
END:VEVENT
BEGIN:VEVENT
DTSTART;TZID=Europe/Paris:20230319T110000
DTEND;TZID=Europe/Paris:20230319T123000
DTSTAMP:20260425T011256
CREATED:20230112T135118Z
LAST-MODIFIED:20230112T135118Z
UID:4216-1679223600-1679229000@www.korskyrkanuppsala.se
SUMMARY:Gudstjänst\, kl. 11
DESCRIPTION:
URL:https://www.korskyrkanuppsala.se/kalender/gudstjanst-kl-11-56/
END:VEVENT
BEGIN:VEVENT
DTSTART;TZID=Europe/Paris:20230321T183000
DTEND;TZID=Europe/Paris:20230321T203000
DTSTAMP:20260425T011256
CREATED:20230111T141813Z
LAST-MODIFIED:20230111T141820Z
UID:4173-1679423400-1679430600@www.korskyrkanuppsala.se
SUMMARY:Alpha
DESCRIPTION:
URL:https://www.korskyrkanuppsala.se/kalender/alpha-15/
ATTACH;FMTTYPE=image/jpeg:https://www.korskyrkanuppsala.se/wp-content/uploads/2023/01/Instagram_-Alpha.P02.jpeg
END:VEVENT
BEGIN:VEVENT
DTSTART;TZID=Europe/Paris:20230323T140000
DTEND;TZID=Europe/Paris:20230323T160000
DTSTAMP:20260425T011256
CREATED:20230112T134039Z
LAST-MODIFIED:20230112T134039Z
UID:4204-1679580000-1679587200@www.korskyrkanuppsala.se
SUMMARY:Café Korskyrkan
DESCRIPTION:Välkommen till Café Korskyrkan – ett bra tillfälle att öva svenska och lära känna nya vänner. \nTorsdagar\, kl. 14-16 i Korskyrkan Uppsala.
URL:https://www.korskyrkanuppsala.se/kalender/cafe-korskyrkan-18/
ATTACH;FMTTYPE=image/png:https://www.korskyrkanuppsala.se/wp-content/uploads/2022/12/Sprakcafe-5.png
END:VEVENT
BEGIN:VEVENT
DTSTART;TZID=Europe/Paris:20230324T100000
DTEND;TZID=Europe/Paris:20230324T110000
DTSTAMP:20260425T011256
CREATED:20230307T120409Z
LAST-MODIFIED:20230307T120409Z
UID:4389-1679652000-1679655600@www.korskyrkanuppsala.se
SUMMARY:Fredagsbön
DESCRIPTION:Fredagsbönen möts varje fredag i kyrkan kl 10. Kom och var med och be en timme eller två.
URL:https://www.korskyrkanuppsala.se/kalender/fredagsbon-54/
END:VEVENT
BEGIN:VEVENT
DTSTART;TZID=Europe/Paris:20230325T140000
DTEND;TZID=Europe/Paris:20230325T170000
DTSTAMP:20260425T011256
CREATED:20221220T084337Z
LAST-MODIFIED:20221220T084337Z
UID:4076-1679752800-1679763600@www.korskyrkanuppsala.se
SUMMARY:Årsmöte
DESCRIPTION:Lördagen den 25 mars är det dags för församlingens årsmöte. \nMer information kommer.
URL:https://www.korskyrkanuppsala.se/kalender/arsmote-3/
END:VEVENT
BEGIN:VEVENT
DTSTART;TZID=Europe/Paris:20230326T110000
DTEND;TZID=Europe/Paris:20230326T123000
DTSTAMP:20260425T011256
CREATED:20230112T135152Z
LAST-MODIFIED:20230112T135152Z
UID:4218-1679828400-1679833800@www.korskyrkanuppsala.se
SUMMARY:Gudstjänst\, kl. 11
DESCRIPTION:
URL:https://www.korskyrkanuppsala.se/kalender/gudstjanst-kl-11-57/
END:VEVENT
BEGIN:VEVENT
DTSTART;TZID=Europe/Paris:20230328T183000
DTEND;TZID=Europe/Paris:20230328T203000
DTSTAMP:20260425T011256
CREATED:20230111T141857Z
LAST-MODIFIED:20230111T141857Z
UID:4175-1680028200-1680035400@www.korskyrkanuppsala.se
SUMMARY:Alpha
DESCRIPTION:
URL:https://www.korskyrkanuppsala.se/kalender/alpha-16/
ATTACH;FMTTYPE=image/jpeg:https://www.korskyrkanuppsala.se/wp-content/uploads/2023/01/Instagram_-Alpha.P02.jpeg
END:VEVENT
BEGIN:VEVENT
DTSTART;TZID=Europe/Paris:20230330T140000
DTEND;TZID=Europe/Paris:20230330T160000
DTSTAMP:20260425T011256
CREATED:20230112T134114Z
LAST-MODIFIED:20230112T134114Z
UID:4206-1680184800-1680192000@www.korskyrkanuppsala.se
SUMMARY:Café Korskyrkan
DESCRIPTION:Välkommen till Café Korskyrkan – ett bra tillfälle att öva svenska och lära känna nya vänner. \nTorsdagar\, kl. 14-16 i Korskyrkan Uppsala.
URL:https://www.korskyrkanuppsala.se/kalender/cafe-korskyrkan-19/
ATTACH;FMTTYPE=image/png:https://www.korskyrkanuppsala.se/wp-content/uploads/2022/12/Sprakcafe-5.png
END:VEVENT
BEGIN:VEVENT
DTSTART;TZID=Europe/Paris:20230331T100000
DTEND;TZID=Europe/Paris:20230331T110000
DTSTAMP:20260425T011256
CREATED:20230307T120451Z
LAST-MODIFIED:20230307T120451Z
UID:4391-1680256800-1680260400@www.korskyrkanuppsala.se
SUMMARY:Fredagsbön
DESCRIPTION:Fredagsbönen möts varje fredag i kyrkan kl 10. Kom och var med och be en timme eller två.
URL:https://www.korskyrkanuppsala.se/kalender/fredagsbon-55/
END:VEVENT
BEGIN:VEVENT
DTSTART;TZID=Europe/Paris:20230402T110000
DTEND;TZID=Europe/Paris:20230402T123000
DTSTAMP:20260425T011256
CREATED:20230112T135243Z
LAST-MODIFIED:20230112T135243Z
UID:4220-1680433200-1680438600@www.korskyrkanuppsala.se
SUMMARY:Gudstjänst\, kl. 11
DESCRIPTION:
URL:https://www.korskyrkanuppsala.se/kalender/gudstjanst-kl-11-58/
END:VEVENT
BEGIN:VEVENT
DTSTART;TZID=Europe/Paris:20230406T183000
DTEND;TZID=Europe/Paris:20230406T193000
DTSTAMP:20260425T011256
CREATED:20230329T121354Z
LAST-MODIFIED:20230329T121354Z
UID:4503-1680805800-1680809400@www.korskyrkanuppsala.se
SUMMARY:Skärtorsdagsgudstjänst
DESCRIPTION:Skärtorsdagsgudstjänst. Getsemanestund\, nattvard. Fika.
URL:https://www.korskyrkanuppsala.se/kalender/skartorsdagsgudstjanst-2/
END:VEVENT
BEGIN:VEVENT
DTSTART;TZID=Europe/Paris:20230407T110000
DTEND;TZID=Europe/Paris:20230407T123000
DTSTAMP:20260425T011256
CREATED:20230329T121526Z
LAST-MODIFIED:20230329T121526Z
UID:4505-1680865200-1680870600@www.korskyrkanuppsala.se
SUMMARY:Långfredagsgudstjänst
DESCRIPTION:Långfredagsgudstjänst (ingen fredagsbön kl 10 idag).
URL:https://www.korskyrkanuppsala.se/kalender/langfredagsgudstjanst-3/
END:VEVENT
BEGIN:VEVENT
DTSTART;TZID=Europe/Paris:20230407T190000
DTEND;TZID=Europe/Paris:20230407T200000
DTSTAMP:20260425T011256
CREATED:20230403T125306Z
LAST-MODIFIED:20230405T091252Z
UID:4532-1680894000-1680897600@www.korskyrkanuppsala.se
SUMMARY:Påskdrama
DESCRIPTION:Club bjuder in till dramatiserad påskberättelse\, lovsång och nattvard
URL:https://www.korskyrkanuppsala.se/kalender/paskdrama/
END:VEVENT
BEGIN:VEVENT
DTSTART;TZID=Europe/Paris:20230409T110000
DTEND;TZID=Europe/Paris:20230409T123000
DTSTAMP:20260425T011256
CREATED:20230112T135312Z
LAST-MODIFIED:20230329T121124Z
UID:4222-1681038000-1681043400@www.korskyrkanuppsala.se
SUMMARY:Påskdagsgudstjänst
DESCRIPTION:Påskdagsgudstjänst. Kyrkkaffe.
URL:https://www.korskyrkanuppsala.se/kalender/paskdagsgudstjanst-2/
END:VEVENT
BEGIN:VEVENT
DTSTART;TZID=Europe/Paris:20230412T190000
DTEND;TZID=Europe/Paris:20230412T210000
DTSTAMP:20260425T011256
CREATED:20230119T095741Z
LAST-MODIFIED:20230119T095741Z
UID:4245-1681326000-1681333200@www.korskyrkanuppsala.se
SUMMARY:Unga vuxna: samtalskväll
DESCRIPTION:Mer information kommer.
URL:https://www.korskyrkanuppsala.se/kalender/unga-vuxna-samtalskvall-2/
END:VEVENT
BEGIN:VEVENT
DTSTART;TZID=Europe/Paris:20230413T140000
DTEND;TZID=Europe/Paris:20230413T160000
DTSTAMP:20260425T011256
CREATED:20230418T203553Z
LAST-MODIFIED:20230418T203553Z
UID:4569-1681394400-1681401600@www.korskyrkanuppsala.se
SUMMARY:Café Korskyrkan
DESCRIPTION:Välkommen till Café Korskyrkan – ett bra tillfälle att öva svenska och lära känna nya vänner. \nTorsdagar\, kl. 14-16 i Korskyrkan Uppsala.
URL:https://www.korskyrkanuppsala.se/kalender/cafe-korskyrkan-20/
END:VEVENT
BEGIN:VEVENT
DTSTART;TZID=Europe/Paris:20230414T100000
DTEND;TZID=Europe/Paris:20230414T110000
DTSTAMP:20260425T011256
CREATED:20230307T120527Z
LAST-MODIFIED:20230329T120930Z
UID:4393-1681466400-1681470000@www.korskyrkanuppsala.se
SUMMARY:Fredagsbön
DESCRIPTION:Fredagsbönen möts varje fredag i kyrkan kl 10. Kom och var med och be en timme eller två.
URL:https://www.korskyrkanuppsala.se/kalender/fredagsbon-56/
END:VEVENT
BEGIN:VEVENT
DTSTART;TZID=Europe/Paris:20230416T110000
DTEND;TZID=Europe/Paris:20230416T123000
DTSTAMP:20260425T011256
CREATED:20230112T135339Z
LAST-MODIFIED:20230112T135339Z
UID:4224-1681642800-1681648200@www.korskyrkanuppsala.se
SUMMARY:Gudstjänst\, kl. 11
DESCRIPTION:
URL:https://www.korskyrkanuppsala.se/kalender/gudstjanst-kl-11-59/
END:VEVENT
BEGIN:VEVENT
DTSTART;TZID=Europe/Paris:20230419T140000
DTEND;TZID=Europe/Paris:20230419T160000
DTSTAMP:20260425T011256
CREATED:20221213T104816Z
LAST-MODIFIED:20221213T104816Z
UID:4035-1681912800-1681920000@www.korskyrkanuppsala.se
SUMMARY:Dagledigträff
DESCRIPTION:Välkommen till dagledigträff i Korskyrkan\, onsdagen den 19 april.\nTema: ”43 år på samma plats – stackars människor” med Pastor Lars Lewén\, Alunda.
URL:https://www.korskyrkanuppsala.se/kalender/dagledigtraff-5/
END:VEVENT
END:VCALENDAR