BEGIN:VCALENDAR
VERSION:2.0
PRODID:-//Korskyrkan Uppsala - ECPv6.2.0.1//NONSGML v1.0//EN
CALSCALE:GREGORIAN
METHOD:PUBLISH
X-ORIGINAL-URL:https://www.korskyrkanuppsala.se
X-WR-CALDESC:Händelser för Korskyrkan Uppsala
REFRESH-INTERVAL;VALUE=DURATION:PT1H
X-Robots-Tag:noindex
X-PUBLISHED-TTL:PT1H
BEGIN:VTIMEZONE
TZID:Europe/Paris
BEGIN:DAYLIGHT
TZOFFSETFROM:+0100
TZOFFSETTO:+0200
TZNAME:CEST
DTSTART:20230326T010000
END:DAYLIGHT
BEGIN:STANDARD
TZOFFSETFROM:+0200
TZOFFSETTO:+0100
TZNAME:CET
DTSTART:20231029T010000
END:STANDARD
END:VTIMEZONE
BEGIN:VEVENT
DTSTART;TZID=Europe/Paris:20230423T110000
DTEND;TZID=Europe/Paris:20230423T123000
DTSTAMP:20260425T023812
CREATED:20230112T135413Z
LAST-MODIFIED:20230112T135413Z
UID:4226-1682247600-1682253000@www.korskyrkanuppsala.se
SUMMARY:Gudstjänst\, kl. 11
DESCRIPTION:
URL:https://www.korskyrkanuppsala.se/kalender/gudstjanst-kl-11-60/
END:VEVENT
BEGIN:VEVENT
DTSTART;TZID=Europe/Paris:20230427T140000
DTEND;TZID=Europe/Paris:20230427T160000
DTSTAMP:20260425T023812
CREATED:20230418T203813Z
LAST-MODIFIED:20230418T203813Z
UID:4573-1682604000-1682611200@www.korskyrkanuppsala.se
SUMMARY:Café Korskyrkan
DESCRIPTION:Välkommen till Café Korskyrkan – ett bra tillfälle att öva svenska och lära känna nya vänner. \nTorsdagar\, kl. 14-16 i Korskyrkan Uppsala.
URL:https://www.korskyrkanuppsala.se/kalender/cafe-korskyrkan-22/
END:VEVENT
BEGIN:VEVENT
DTSTART;TZID=Europe/Paris:20230428T100000
DTEND;TZID=Europe/Paris:20230428T110000
DTSTAMP:20260425T023812
CREATED:20230307T120648Z
LAST-MODIFIED:20230307T120648Z
UID:4397-1682676000-1682679600@www.korskyrkanuppsala.se
SUMMARY:Fredagsbön
DESCRIPTION:Fredagsbönen möts varje fredag i kyrkan kl 10. Kom och var med och be en timme eller två.
URL:https://www.korskyrkanuppsala.se/kalender/fredagsbon-58/
END:VEVENT
BEGIN:VEVENT
DTSTART;TZID=Europe/Paris:20230430T110000
DTEND;TZID=Europe/Paris:20230430T123000
DTSTAMP:20260425T023812
CREATED:20230112T135436Z
LAST-MODIFIED:20230112T135436Z
UID:4228-1682852400-1682857800@www.korskyrkanuppsala.se
SUMMARY:Gudstjänst\, kl. 11
DESCRIPTION:
URL:https://www.korskyrkanuppsala.se/kalender/gudstjanst-kl-11-61/
END:VEVENT
BEGIN:VEVENT
DTSTART;TZID=Europe/Paris:20230504T140000
DTEND;TZID=Europe/Paris:20230504T160000
DTSTAMP:20260425T023812
CREATED:20230418T203858Z
LAST-MODIFIED:20230418T203858Z
UID:4575-1683208800-1683216000@www.korskyrkanuppsala.se
SUMMARY:Café Korskyrkan
DESCRIPTION:Välkommen till Café Korskyrkan – ett bra tillfälle att öva svenska och lära känna nya vänner. \nTorsdagar\, kl. 14-16 i Korskyrkan Uppsala.
URL:https://www.korskyrkanuppsala.se/kalender/cafe-korskyrkan-23/
END:VEVENT
BEGIN:VEVENT
DTSTART;TZID=Europe/Paris:20230505T100000
DTEND;TZID=Europe/Paris:20230505T110000
DTSTAMP:20260425T023812
CREATED:20230307T120738Z
LAST-MODIFIED:20230307T120738Z
UID:4399-1683280800-1683284400@www.korskyrkanuppsala.se
SUMMARY:Fredagsbön
DESCRIPTION:Fredagsbönen möts varje fredag i kyrkan kl 10. Kom och var med och be en timme eller två.
URL:https://www.korskyrkanuppsala.se/kalender/fredagsbon-59/
END:VEVENT
BEGIN:VEVENT
DTSTART;TZID=Europe/Paris:20230507T110000
DTEND;TZID=Europe/Paris:20230507T123000
DTSTAMP:20260425T023812
CREATED:20230119T121211Z
LAST-MODIFIED:20230119T121211Z
UID:4247-1683457200-1683462600@www.korskyrkanuppsala.se
SUMMARY:Gudstjänst\, kl. 11
DESCRIPTION:
URL:https://www.korskyrkanuppsala.se/kalender/gudstjanst-kl-11-62/
END:VEVENT
BEGIN:VEVENT
DTSTART;TZID=Europe/Paris:20230510T183000
DTEND;TZID=Europe/Paris:20230510T203000
DTSTAMP:20260425T023812
CREATED:20221220T084429Z
LAST-MODIFIED:20221220T084429Z
UID:4078-1683743400-1683750600@www.korskyrkanuppsala.se
SUMMARY:Församlingsmöte
DESCRIPTION:
URL:https://www.korskyrkanuppsala.se/kalender/forsamlingsmote-15/
END:VEVENT
BEGIN:VEVENT
DTSTART;TZID=Europe/Paris:20230511T140000
DTEND;TZID=Europe/Paris:20230511T160000
DTSTAMP:20260425T023812
CREATED:20230418T204006Z
LAST-MODIFIED:20230418T204006Z
UID:4577-1683813600-1683820800@www.korskyrkanuppsala.se
SUMMARY:Café Korskyrkan
DESCRIPTION:Välkommen till Café Korskyrkan – ett bra tillfälle att öva svenska och lära känna nya vänner. \nTorsdagar\, kl. 14-16 i Korskyrkan Uppsala.
URL:https://www.korskyrkanuppsala.se/kalender/cafe-korskyrkan-24/
END:VEVENT
BEGIN:VEVENT
DTSTART;TZID=Europe/Paris:20230512T100000
DTEND;TZID=Europe/Paris:20230512T110000
DTSTAMP:20260425T023812
CREATED:20230307T120810Z
LAST-MODIFIED:20230307T120810Z
UID:4401-1683885600-1683889200@www.korskyrkanuppsala.se
SUMMARY:Fredagsbön
DESCRIPTION:Fredagsbönen möts varje fredag i kyrkan kl 10. Kom och var med och be en timme eller två.
URL:https://www.korskyrkanuppsala.se/kalender/fredagsbon-60/
END:VEVENT
BEGIN:VEVENT
DTSTART;TZID=Europe/Paris:20230514T110000
DTEND;TZID=Europe/Paris:20230514T123000
DTSTAMP:20260425T023812
CREATED:20230119T121244Z
LAST-MODIFIED:20230119T121244Z
UID:4249-1684062000-1684067400@www.korskyrkanuppsala.se
SUMMARY:Gudstjänst\, kl. 11
DESCRIPTION:
URL:https://www.korskyrkanuppsala.se/kalender/gudstjanst-kl-11-63/
END:VEVENT
BEGIN:VEVENT
DTSTART;TZID=Europe/Paris:20230519T100000
DTEND;TZID=Europe/Paris:20230519T110000
DTSTAMP:20260425T023812
CREATED:20230307T120942Z
LAST-MODIFIED:20230307T120942Z
UID:4403-1684490400-1684494000@www.korskyrkanuppsala.se
SUMMARY:Fredagsbön
DESCRIPTION:Var med och be en timme eller två. Kyrkan kl. 10.
URL:https://www.korskyrkanuppsala.se/kalender/fredagsbon-61/
END:VEVENT
BEGIN:VEVENT
DTSTART;TZID=Europe/Paris:20230521T110000
DTEND;TZID=Europe/Paris:20230521T123000
DTSTAMP:20260425T023812
CREATED:20230119T121311Z
LAST-MODIFIED:20230119T121311Z
UID:4251-1684666800-1684672200@www.korskyrkanuppsala.se
SUMMARY:Gudstjänst\, kl. 11
DESCRIPTION:
URL:https://www.korskyrkanuppsala.se/kalender/gudstjanst-kl-11-64/
END:VEVENT
BEGIN:VEVENT
DTSTART;TZID=Europe/Paris:20230525T140000
DTEND;TZID=Europe/Paris:20230525T160000
DTSTAMP:20260425T023812
CREATED:20230418T204032Z
LAST-MODIFIED:20230418T204101Z
UID:4579-1685023200-1685030400@www.korskyrkanuppsala.se
SUMMARY:Café Korskyrkan
DESCRIPTION:Välkommen till Café Korskyrkan – ett bra tillfälle att öva svenska och lära känna nya vänner. \nTorsdagar\, kl. 14-16 i Korskyrkan Uppsala.
URL:https://www.korskyrkanuppsala.se/kalender/cafe-korskyrkan-25/
END:VEVENT
BEGIN:VEVENT
DTSTART;TZID=Europe/Paris:20230526T100000
DTEND;TZID=Europe/Paris:20230526T110000
DTSTAMP:20260425T023812
CREATED:20230307T121100Z
LAST-MODIFIED:20230307T121100Z
UID:4407-1685095200-1685098800@www.korskyrkanuppsala.se
SUMMARY:Fredagsbön
DESCRIPTION:Var med och be en timme eller två. Kyrkan kl. 10.
URL:https://www.korskyrkanuppsala.se/kalender/fredagsbon-63/
END:VEVENT
BEGIN:VEVENT
DTSTART;TZID=Europe/Paris:20230528T110000
DTEND;TZID=Europe/Paris:20230528T123000
DTSTAMP:20260425T023812
CREATED:20230119T121336Z
LAST-MODIFIED:20230119T121336Z
UID:4253-1685271600-1685277000@www.korskyrkanuppsala.se
SUMMARY:Gudstjänst\, kl. 11
DESCRIPTION:
URL:https://www.korskyrkanuppsala.se/kalender/gudstjanst-kl-11-65/
END:VEVENT
BEGIN:VEVENT
DTSTART;TZID=Europe/Paris:20230601T140000
DTEND;TZID=Europe/Paris:20230601T160000
DTSTAMP:20260425T023812
CREATED:20230418T204312Z
LAST-MODIFIED:20230418T204312Z
UID:4581-1685628000-1685635200@www.korskyrkanuppsala.se
SUMMARY:Café Korskyrkan
DESCRIPTION:Välkommen till Café Korskyrkan – ett bra tillfälle att öva svenska och lära känna nya vänner. \nTorsdagar\, kl. 14-16 i Korskyrkan Uppsala.
URL:https://www.korskyrkanuppsala.se/kalender/cafe-korskyrkan-26/
END:VEVENT
BEGIN:VEVENT
DTSTART;TZID=Europe/Paris:20230602T100000
DTEND;TZID=Europe/Paris:20230602T110000
DTSTAMP:20260425T023812
CREATED:20230307T121133Z
LAST-MODIFIED:20230307T121133Z
UID:4409-1685700000-1685703600@www.korskyrkanuppsala.se
SUMMARY:Fredagsbön
DESCRIPTION:Var med och be en timme eller två. Kyrkan kl. 10.
URL:https://www.korskyrkanuppsala.se/kalender/fredagsbon-64/
END:VEVENT
BEGIN:VEVENT
DTSTART;TZID=Europe/Paris:20230603T160000
DTEND;TZID=Europe/Paris:20230603T210000
DTSTAMP:20260425T023812
CREATED:20230603T090708Z
LAST-MODIFIED:20230603T090708Z
UID:4623-1685808000-1685826000@www.korskyrkanuppsala.se
SUMMARY:Kvarngärdets sommardag
DESCRIPTION:
URL:https://www.korskyrkanuppsala.se/kalender/kvarngardets-sommardag/
END:VEVENT
BEGIN:VEVENT
DTSTART;TZID=Europe/Paris:20230604T110000
DTEND;TZID=Europe/Paris:20230604T123000
DTSTAMP:20260425T023812
CREATED:20230603T090911Z
LAST-MODIFIED:20230603T090911Z
UID:4625-1685876400-1685881800@www.korskyrkanuppsala.se
SUMMARY:Gudstjänst kl 11
DESCRIPTION:Daniel predikar. Dop\, nattvard\, missionsinfo.
URL:https://www.korskyrkanuppsala.se/kalender/gudstjanst-kl-11-66/
END:VEVENT
BEGIN:VEVENT
DTSTART;TZID=Europe/Paris:20230609T100000
DTEND;TZID=Europe/Paris:20230609T110000
DTSTAMP:20260425T023812
CREATED:20230307T121241Z
LAST-MODIFIED:20230307T121241Z
UID:4413-1686304800-1686308400@www.korskyrkanuppsala.se
SUMMARY:Fredagsbön
DESCRIPTION:Var med och be en timme eller två. Kyrkan kl. 10.
URL:https://www.korskyrkanuppsala.se/kalender/fredagsbon-66/
END:VEVENT
BEGIN:VEVENT
DTSTART;TZID=Europe/Paris:20230611T110000
DTEND;TZID=Europe/Paris:20230611T123000
DTSTAMP:20260425T023812
CREATED:20230604T160947Z
LAST-MODIFIED:20230604T160947Z
UID:4629-1686481200-1686486600@www.korskyrkanuppsala.se
SUMMARY:Gudstjänst\, kl. 11
DESCRIPTION:Simon predikar och tackas av som pastor.
URL:https://www.korskyrkanuppsala.se/kalender/gudstjanst-kl-11-67/
END:VEVENT
BEGIN:VEVENT
DTSTART;TZID=Europe/Paris:20230616T100000
DTEND;TZID=Europe/Paris:20230616T110000
DTSTAMP:20260425T023812
CREATED:20230307T121307Z
LAST-MODIFIED:20230307T121307Z
UID:4415-1686909600-1686913200@www.korskyrkanuppsala.se
SUMMARY:Fredagsbön
DESCRIPTION:Var med och be en timme eller två. Kyrkan kl. 10.
URL:https://www.korskyrkanuppsala.se/kalender/fredagsbon-67/
END:VEVENT
BEGIN:VEVENT
DTSTART;TZID=Europe/Paris:20230618T110000
DTEND;TZID=Europe/Paris:20230618T123000
DTSTAMP:20260425T023812
CREATED:20230604T161033Z
LAST-MODIFIED:20230604T161033Z
UID:4631-1687086000-1687091400@www.korskyrkanuppsala.se
SUMMARY:Gudstjänst\, kl. 11
DESCRIPTION:Anders predikar.
URL:https://www.korskyrkanuppsala.se/kalender/gudstjanst-kl-11-68/
END:VEVENT
BEGIN:VEVENT
DTSTART;TZID=Europe/Paris:20230623T100000
DTEND;TZID=Europe/Paris:20230623T110000
DTSTAMP:20260425T023812
CREATED:20230307T121339Z
LAST-MODIFIED:20230307T121339Z
UID:4417-1687514400-1687518000@www.korskyrkanuppsala.se
SUMMARY:Fredagsbön
DESCRIPTION:Var med och be en timme eller två. Kyrkan kl. 10.
URL:https://www.korskyrkanuppsala.se/kalender/fredagsbon-68/
END:VEVENT
BEGIN:VEVENT
DTSTART;TZID=Europe/Paris:20230625T110000
DTEND;TZID=Europe/Paris:20230625T123000
DTSTAMP:20260425T023812
CREATED:20230604T161122Z
LAST-MODIFIED:20230604T161122Z
UID:4633-1687690800-1687696200@www.korskyrkanuppsala.se
SUMMARY:Gudstjänst\, kl. 11
DESCRIPTION:Anders predikar.
URL:https://www.korskyrkanuppsala.se/kalender/gudstjanst-kl-11-69/
END:VEVENT
BEGIN:VEVENT
DTSTART;TZID=Europe/Paris:20230630T100000
DTEND;TZID=Europe/Paris:20230630T110000
DTSTAMP:20260425T023812
CREATED:20230307T121423Z
LAST-MODIFIED:20230307T121423Z
UID:4419-1688119200-1688122800@www.korskyrkanuppsala.se
SUMMARY:Fredagsbön
DESCRIPTION:Var med och be en timme eller två. Kyrkan kl. 10.
URL:https://www.korskyrkanuppsala.se/kalender/fredagsbon-69/
END:VEVENT
BEGIN:VEVENT
DTSTART;TZID=Europe/Paris:20230702T100000
DTEND;TZID=Europe/Paris:20230702T113000
DTSTAMP:20260425T023812
CREATED:20230604T161255Z
LAST-MODIFIED:20230620T062630Z
UID:4635-1688292000-1688297400@www.korskyrkanuppsala.se
SUMMARY:Gudstjänst OBS tiden kl. 10
DESCRIPTION:Daniel predikar. Nattvard.
URL:https://www.korskyrkanuppsala.se/kalender/gudstjanst-kl-11-70/
END:VEVENT
BEGIN:VEVENT
DTSTART;TZID=Europe/Paris:20230707T100000
DTEND;TZID=Europe/Paris:20230707T110000
DTSTAMP:20260425T023812
CREATED:20230629T160735Z
LAST-MODIFIED:20230629T160735Z
UID:4688-1688724000-1688727600@www.korskyrkanuppsala.se
SUMMARY:Fredagsbön
DESCRIPTION:En-två timmar bön i kyrkan
URL:https://www.korskyrkanuppsala.se/kalender/fredagsbon-62/
END:VEVENT
BEGIN:VEVENT
DTSTART;TZID=Europe/Paris:20230709T100000
DTEND;TZID=Europe/Paris:20230709T113000
DTSTAMP:20260425T023812
CREATED:20230604T162817Z
LAST-MODIFIED:20230620T062516Z
UID:4637-1688896800-1688902200@www.korskyrkanuppsala.se
SUMMARY:Gudstjänst\, kl. 10
DESCRIPTION:Anders predikar.
URL:https://www.korskyrkanuppsala.se/kalender/gudstjanst-kl-11-71/
END:VEVENT
END:VCALENDAR