BEGIN:VCALENDAR
VERSION:2.0
PRODID:-//Korskyrkan Uppsala - ECPv6.2.0.1//NONSGML v1.0//EN
CALSCALE:GREGORIAN
METHOD:PUBLISH
X-ORIGINAL-URL:https://www.korskyrkanuppsala.se
X-WR-CALDESC:Händelser för Korskyrkan Uppsala
REFRESH-INTERVAL;VALUE=DURATION:PT1H
X-Robots-Tag:noindex
X-PUBLISHED-TTL:PT1H
BEGIN:VTIMEZONE
TZID:Europe/Paris
BEGIN:DAYLIGHT
TZOFFSETFROM:+0100
TZOFFSETTO:+0200
TZNAME:CEST
DTSTART:20220327T010000
END:DAYLIGHT
BEGIN:STANDARD
TZOFFSETFROM:+0200
TZOFFSETTO:+0100
TZNAME:CET
DTSTART:20221030T010000
END:STANDARD
END:VTIMEZONE
BEGIN:VEVENT
DTSTART;TZID=Europe/Paris:20221202T100000
DTEND;TZID=Europe/Paris:20221202T120000
DTSTAMP:20260425T040845
CREATED:20220916T091332Z
LAST-MODIFIED:20220916T091332Z
UID:3760-1669975200-1669982400@www.korskyrkanuppsala.se
SUMMARY:Fredagsbön
DESCRIPTION:Fredagsbönen möts varje fredag i kyrkan kl 10. Kom och var med och be en timme eller två.
URL:https://www.korskyrkanuppsala.se/kalender/fredagsbon-40/
END:VEVENT
BEGIN:VEVENT
DTSTART;TZID=Europe/Paris:20221202T190000
DTEND;TZID=Europe/Paris:20221202T230000
DTSTAMP:20260425T040845
CREATED:20220916T091810Z
LAST-MODIFIED:20220916T091810Z
UID:3776-1670007600-1670022000@www.korskyrkanuppsala.se
SUMMARY:Club Växa
DESCRIPTION:
URL:https://www.korskyrkanuppsala.se/kalender/club-vaxa-27/
END:VEVENT
BEGIN:VEVENT
DTSTART;TZID=Europe/Paris:20221204T110000
DTEND;TZID=Europe/Paris:20221204T123000
DTSTAMP:20260425T040845
CREATED:20221012T094238Z
LAST-MODIFIED:20221201T150811Z
UID:3896-1670151600-1670157000@www.korskyrkanuppsala.se
SUMMARY:Gudstjänst\, kl. 11
DESCRIPTION:Välkommen till gudstjänst den andra advent i Korskyrkan! \nDaniel Lindqvist predikar och vi firar nattvard. \nFör barnen blir det samling med kompisklubben. \n4 december\, kl. 11.00.
URL:https://www.korskyrkanuppsala.se/kalender/gudstjanst-kl-11-42/
ATTACH;FMTTYPE=image/png:https://www.korskyrkanuppsala.se/wp-content/uploads/2022/11/Adventsgudstjanst-4.png
END:VEVENT
BEGIN:VEVENT
DTSTART;TZID=Europe/Paris:20221205T190000
DTEND;TZID=Europe/Paris:20221205T203000
DTSTAMP:20260425T040845
CREATED:20220502T093713Z
LAST-MODIFIED:20220502T093713Z
UID:3415-1670266800-1670272200@www.korskyrkanuppsala.se
SUMMARY:Församlingsmöte
DESCRIPTION:
URL:https://www.korskyrkanuppsala.se/kalender/forsamlingsmote-11/
END:VEVENT
BEGIN:VEVENT
DTSTART;TZID=Europe/Paris:20221209T100000
DTEND;TZID=Europe/Paris:20221209T120000
DTSTAMP:20260425T040845
CREATED:20220916T091359Z
LAST-MODIFIED:20220916T091359Z
UID:3762-1670580000-1670587200@www.korskyrkanuppsala.se
SUMMARY:Fredagsbön
DESCRIPTION:Fredagsbönen möts varje fredag i kyrkan kl 10. Kom och var med och be en timme eller två.
URL:https://www.korskyrkanuppsala.se/kalender/fredagsbon-41/
END:VEVENT
BEGIN:VEVENT
DTSTART;TZID=Europe/Paris:20221209T190000
DTEND;TZID=Europe/Paris:20221209T230000
DTSTAMP:20260425T040845
CREATED:20220916T091835Z
LAST-MODIFIED:20220916T091835Z
UID:3778-1670612400-1670626800@www.korskyrkanuppsala.se
SUMMARY:Club Växa
DESCRIPTION:
URL:https://www.korskyrkanuppsala.se/kalender/club-vaxa-28/
END:VEVENT
BEGIN:VEVENT
DTSTART;TZID=Europe/Paris:20221211T110000
DTEND;TZID=Europe/Paris:20221211T123000
DTSTAMP:20260425T040845
CREATED:20221012T094307Z
LAST-MODIFIED:20221201T152320Z
UID:3898-1670756400-1670761800@www.korskyrkanuppsala.se
SUMMARY:Gudstjänst\, kl. 11
DESCRIPTION:Simon Blomqvist predikar. \nJulfest med kompisklubben!
URL:https://www.korskyrkanuppsala.se/kalender/gudstjanst-kl-11-43/
ATTACH;FMTTYPE=image/png:https://www.korskyrkanuppsala.se/wp-content/uploads/2022/10/Adventsgudstjanst-5.png
END:VEVENT
BEGIN:VEVENT
DTSTART;TZID=Europe/Paris:20221214T190000
DTEND;TZID=Europe/Paris:20221214T210000
DTSTAMP:20260425T040845
CREATED:20220913T095436Z
LAST-MODIFIED:20221212T152130Z
UID:3702-1671044400-1671051600@www.korskyrkanuppsala.se
SUMMARY:Julfest med Korskyrkans Unga Vuxna
DESCRIPTION:Den 14 december\, klockan 19 är det julfest med Korskyrkans Unga Vuxna. Vi håller till i Korskyrkan och umgås\, äter julfika\, leker en julkappslek och dekorerar julkakor.\nVi tänker knytkalas till fikat. Kolla upp länken nedan och skriv upp er på något ni kan ta med. Detta är givetvis inget måste för att få komma.\nhttps://docs.google.com/…/102Sgvdnzu…/edit…\n\nVi kommer även att ha en ”White Elephant” julklappslek där man slår in och tar med något som man har hemma och inte längre vill ha eller behöver. Dessa klappar kommer vi sedan att byta med varandra i en lek. Några extra klappar finns på plats ifall du inte har något att ta med.\nOm du har någon specialkost (utöver vegetariskt) sms:a Simon på 073-334 5776 och klicka gärna i facebook-eventet att du kommer så att vi kan beräkna.\n\nVälkommen på julfest med Korskyrkans Unga Vuxna oavsett om du ny eller har varit med länge!
URL:https://www.korskyrkanuppsala.se/kalender/julfest-med-korskyrkans-unga-vuxna/
ATTACH;FMTTYPE=image/jpeg:https://www.korskyrkanuppsala.se/wp-content/uploads/2022/09/julfest-unga-vuxna.jpeg
END:VEVENT
BEGIN:VEVENT
DTSTART;TZID=Europe/Paris:20221216T100000
DTEND;TZID=Europe/Paris:20221216T120000
DTSTAMP:20260425T040845
CREATED:20220916T091429Z
LAST-MODIFIED:20220916T091429Z
UID:3764-1671184800-1671192000@www.korskyrkanuppsala.se
SUMMARY:Fredagsbön
DESCRIPTION:Fredagsbönen möts varje fredag i kyrkan kl 10. Kom och var med och be en timme eller två.
URL:https://www.korskyrkanuppsala.se/kalender/fredagsbon-42/
END:VEVENT
BEGIN:VEVENT
DTSTART;TZID=Europe/Paris:20221216T190000
DTEND;TZID=Europe/Paris:20221216T230000
DTSTAMP:20260425T040845
CREATED:20221201T123117Z
LAST-MODIFIED:20221201T123117Z
UID:3990-1671217200-1671231600@www.korskyrkanuppsala.se
SUMMARY:Club Växa
DESCRIPTION:
URL:https://www.korskyrkanuppsala.se/kalender/club-vaxa-25/
END:VEVENT
BEGIN:VEVENT
DTSTART;TZID=Europe/Paris:20221218T110000
DTEND;TZID=Europe/Paris:20221218T123000
DTSTAMP:20260425T040845
CREATED:20221012T094412Z
LAST-MODIFIED:20221124T090740Z
UID:3900-1671361200-1671366600@www.korskyrkanuppsala.se
SUMMARY:Gudstjänst\, kl. 11
DESCRIPTION:Anders Blåberg predikar.
URL:https://www.korskyrkanuppsala.se/kalender/gudstjanst-kl-11-44/
END:VEVENT
BEGIN:VEVENT
DTSTART;TZID=Europe/Paris:20221225T110000
DTEND;TZID=Europe/Paris:20221225T123000
DTSTAMP:20260425T040845
CREATED:20221012T095136Z
LAST-MODIFIED:20221012T095137Z
UID:3902-1671966000-1671971400@www.korskyrkanuppsala.se
SUMMARY:Juldagsgudstjänst
DESCRIPTION:
URL:https://www.korskyrkanuppsala.se/kalender/juldagsgudstjanst/
END:VEVENT
BEGIN:VEVENT
DTSTART;TZID=Europe/Paris:20221231T180000
DTEND;TZID=Europe/Paris:20221231T235900
DTSTAMP:20260425T040845
CREATED:20221128T130442Z
LAST-MODIFIED:20221213T084843Z
UID:3946-1672509600-1672531140@www.korskyrkanuppsala.se
SUMMARY:Nyårsfest
DESCRIPTION:Välkommen att vara med på nyårsfirande i Korskyrkan. \nMat\, gemenskap och program från kl. 18.00 fram till midnatt. \nKnytkalas tillämpas! \nAnmälan kan antingen göras på lista i kyrkan eller via mail till info@korskyrkanuppsala.se. I anmälan skriver du också vad du tar med dig till middagen. Läs mer här. \n 
URL:https://www.korskyrkanuppsala.se/kalender/nyarsfest/
ATTACH;FMTTYPE=image/png:https://www.korskyrkanuppsala.se/wp-content/uploads/2022/12/Nyarsfirande-Korskyrkan.png
END:VEVENT
END:VCALENDAR