BEGIN:VCALENDAR
VERSION:2.0
PRODID:-//Korskyrkan Uppsala - ECPv6.2.0.1//NONSGML v1.0//EN
CALSCALE:GREGORIAN
METHOD:PUBLISH
X-ORIGINAL-URL:https://www.korskyrkanuppsala.se
X-WR-CALDESC:Händelser för Korskyrkan Uppsala
REFRESH-INTERVAL;VALUE=DURATION:PT1H
X-Robots-Tag:noindex
X-PUBLISHED-TTL:PT1H
BEGIN:VTIMEZONE
TZID:Europe/Paris
BEGIN:DAYLIGHT
TZOFFSETFROM:+0100
TZOFFSETTO:+0200
TZNAME:CEST
DTSTART:20230326T010000
END:DAYLIGHT
BEGIN:STANDARD
TZOFFSETFROM:+0200
TZOFFSETTO:+0100
TZNAME:CET
DTSTART:20231029T010000
END:STANDARD
END:VTIMEZONE
BEGIN:VEVENT
DTSTART;TZID=Europe/Paris:20230202T140000
DTEND;TZID=Europe/Paris:20230202T160000
DTSTAMP:20260424T215815
CREATED:20230112T133425Z
LAST-MODIFIED:20230112T133425Z
UID:4189-1675346400-1675353600@www.korskyrkanuppsala.se
SUMMARY:Café Korskyrkan
DESCRIPTION:Välkommen till Café Korskyrkan – ett bra tillfälle att öva svenska och lära känna nya vänner. \nTorsdagar\, kl. 14-16 i Korskyrkan Uppsala.
URL:https://www.korskyrkanuppsala.se/kalender/cafe-korskyrkan-11/
ATTACH;FMTTYPE=image/png:https://www.korskyrkanuppsala.se/wp-content/uploads/2022/12/Sprakcafe-5.png
END:VEVENT
BEGIN:VEVENT
DTSTART;TZID=Europe/Paris:20230203T100000
DTEND;TZID=Europe/Paris:20230203T120000
DTSTAMP:20260424T215815
CREATED:20221213T132410Z
LAST-MODIFIED:20221213T132410Z
UID:4053-1675418400-1675425600@www.korskyrkanuppsala.se
SUMMARY:Fredagsbön
DESCRIPTION:Fredagsbönen möts varje fredag i kyrkan kl 10. Kom och var med och be en timme eller två.
URL:https://www.korskyrkanuppsala.se/kalender/fredagsbon-47/
END:VEVENT
BEGIN:VEVENT
DTSTART;TZID=Europe/Paris:20230203T190000
DTEND;TZID=Europe/Paris:20230203T230000
DTSTAMP:20260424T215815
CREATED:20221220T084722Z
LAST-MODIFIED:20221220T084722Z
UID:4084-1675450800-1675465200@www.korskyrkanuppsala.se
SUMMARY:Club Växa
DESCRIPTION:
URL:https://www.korskyrkanuppsala.se/kalender/club-vaxa-32/
END:VEVENT
BEGIN:VEVENT
DTSTART;TZID=Europe/Paris:20230205T110000
DTEND;TZID=Europe/Paris:20230205T123000
DTSTAMP:20260424T215815
CREATED:20221130T110024Z
LAST-MODIFIED:20221130T110024Z
UID:3976-1675594800-1675600200@www.korskyrkanuppsala.se
SUMMARY:Gudstjänst\, kl. 11
DESCRIPTION:Predikan av Anders Blåberg. \nNattvard.
URL:https://www.korskyrkanuppsala.se/kalender/gudstjanst-kl-11-50/
END:VEVENT
BEGIN:VEVENT
DTSTART;TZID=Europe/Paris:20230207T183000
DTEND;TZID=Europe/Paris:20230207T203000
DTSTAMP:20260424T215815
CREATED:20230111T141401Z
LAST-MODIFIED:20230111T141401Z
UID:4160-1675794600-1675801800@www.korskyrkanuppsala.se
SUMMARY:Alpha-start
DESCRIPTION:Funderar du på om Gud existerar eller meningen med livet? Eller vill du kanske bara utforska vad kristen tro handlar om? Alpha-kursen är det perfekta forumet för att samtala om livet och Gud! Vem som helst kan gå en Alpha-kurs\, men den vänder speciellt till dig som är nyfiken på och vill utforska den kristna tron\, eller är osäker på vad du egentligen tror på. \nStarten för nästa kurs är 7 februari 2023\, läs mer här. \nAlpha genomförs i ett samarbete med studieförbundet Bilda.
URL:https://www.korskyrkanuppsala.se/kalender/alpha-start-3/
ATTACH;FMTTYPE=image/jpeg:https://www.korskyrkanuppsala.se/wp-content/uploads/2023/01/Instagram_-Alpha.P02.jpeg
END:VEVENT
BEGIN:VEVENT
DTSTART;TZID=Europe/Paris:20230209T140000
DTEND;TZID=Europe/Paris:20230209T160000
DTSTAMP:20260424T215815
CREATED:20230112T133507Z
LAST-MODIFIED:20230112T133507Z
UID:4191-1675951200-1675958400@www.korskyrkanuppsala.se
SUMMARY:Café Korskyrkan
DESCRIPTION:Välkommen till Café Korskyrkan – ett bra tillfälle att öva svenska och lära känna nya vänner. \nTorsdagar\, kl. 14-16 i Korskyrkan Uppsala.
URL:https://www.korskyrkanuppsala.se/kalender/cafe-korskyrkan-12/
ATTACH;FMTTYPE=image/png:https://www.korskyrkanuppsala.se/wp-content/uploads/2022/12/Sprakcafe-5.png
END:VEVENT
BEGIN:VEVENT
DTSTART;TZID=Europe/Paris:20230210T100000
DTEND;TZID=Europe/Paris:20230210T120000
DTSTAMP:20260424T215815
CREATED:20221213T132749Z
LAST-MODIFIED:20221213T132749Z
UID:4061-1676023200-1676030400@www.korskyrkanuppsala.se
SUMMARY:Fredagsbön
DESCRIPTION:Fredagsbönen möts varje fredag i kyrkan kl 10. Kom och var med och be en timme eller två.
URL:https://www.korskyrkanuppsala.se/kalender/fredagsbon-48/
END:VEVENT
BEGIN:VEVENT
DTSTART;TZID=Europe/Paris:20230210T190000
DTEND;TZID=Europe/Paris:20230210T230000
DTSTAMP:20260424T215815
CREATED:20221220T084818Z
LAST-MODIFIED:20221220T084818Z
UID:4086-1676055600-1676070000@www.korskyrkanuppsala.se
SUMMARY:Club Växa
DESCRIPTION:
URL:https://www.korskyrkanuppsala.se/kalender/club-vaxa-33/
END:VEVENT
BEGIN:VEVENT
DTSTART;TZID=Europe/Paris:20230211T180000
DTEND;TZID=Europe/Paris:20230211T200000
DTSTAMP:20260424T215815
CREATED:20230124T102550Z
LAST-MODIFIED:20230124T102550Z
UID:4272-1676138400-1676145600@www.korskyrkanuppsala.se
SUMMARY:Filmvisning: Frikyrkans historia
DESCRIPTION:Välkommen till filmvisning om Frikyrkans historia. \nLördagen den 11 februari\, kl. 18.00 i Korskyrkan.
URL:https://www.korskyrkanuppsala.se/kalender/filmvisning-frikyrkans-historia/
ATTACH;FMTTYPE=image/png:https://www.korskyrkanuppsala.se/wp-content/uploads/2023/01/Frikyrkans-historia-Korskyrkan-1.png
END:VEVENT
BEGIN:VEVENT
DTSTART;TZID=Europe/Paris:20230212T110000
DTEND;TZID=Europe/Paris:20230212T123000
DTSTAMP:20260424T215815
CREATED:20221213T132501Z
LAST-MODIFIED:20221213T132501Z
UID:4055-1676199600-1676205000@www.korskyrkanuppsala.se
SUMMARY:Gudstjänst\, kl. 11
DESCRIPTION:
URL:https://www.korskyrkanuppsala.se/kalender/gudstjanst-kl-11-51/
END:VEVENT
BEGIN:VEVENT
DTSTART;TZID=Europe/Paris:20230214T183000
DTEND;TZID=Europe/Paris:20230214T203000
DTSTAMP:20260424T215815
CREATED:20230111T141447Z
LAST-MODIFIED:20230111T141447Z
UID:4163-1676399400-1676406600@www.korskyrkanuppsala.se
SUMMARY:Alpha
DESCRIPTION:
URL:https://www.korskyrkanuppsala.se/kalender/alpha-10/
ATTACH;FMTTYPE=image/jpeg:https://www.korskyrkanuppsala.se/wp-content/uploads/2023/01/Instagram_-Alpha.P02.jpeg
END:VEVENT
BEGIN:VEVENT
DTSTART;TZID=Europe/Paris:20230214T200000
DTEND;TZID=Europe/Paris:20230214T213000
DTSTAMP:20260424T215815
CREATED:20230119T133614Z
LAST-MODIFIED:20230119T133614Z
UID:4265-1676404800-1676410200@www.korskyrkanuppsala.se
SUMMARY:Start: Äktenskapskurs
DESCRIPTION:Under våren 2023 erbjuder vi en äktenskapskurs\, som är för alla par som önskar stärka sin relation. Vissa par går kursen för att långsiktigt investera i sitt förhållande\, andra vill ta itu med mer specifika utmaningar. Oavsett erbjuder kursen viktiga verktyg och praktiska idéer som hjälper dig att bygga en relation som varar hela livet. \nKursen består av sju tillfällen där föredrag via film varvas med olika uppgifter som ger varje par möjlighet att enskilt samtala om kvällens ämne. Det förekommer inga gruppredovisningar och ingen behöver redovisa något om sin relation eller vilka frågor man arbetar med. \nKursen är en onlinekurs\, med start den 14 februari (tid: 20.00). För mer information och anmälan läs här.
URL:https://www.korskyrkanuppsala.se/kalender/start-aktenskapskurs/
ATTACH;FMTTYPE=image/jpeg:https://www.korskyrkanuppsala.se/wp-content/uploads/2023/01/TMC-_INSTA_7-veckor-e1674133147756.jpg
END:VEVENT
BEGIN:VEVENT
DTSTART;TZID=Europe/Paris:20230215T190000
DTEND;TZID=Europe/Paris:20230215T210000
DTSTAMP:20260424T215815
CREATED:20230119T095225Z
LAST-MODIFIED:20230119T095225Z
UID:4240-1676487600-1676494800@www.korskyrkanuppsala.se
SUMMARY:Unga vuxna: samtalskväll
DESCRIPTION:Mer information kommer.
URL:https://www.korskyrkanuppsala.se/kalender/unga-vuxna-samtalskvall/
END:VEVENT
BEGIN:VEVENT
DTSTART;TZID=Europe/Paris:20230216T140000
DTEND;TZID=Europe/Paris:20230216T160000
DTSTAMP:20260424T215815
CREATED:20230112T133603Z
LAST-MODIFIED:20230112T133603Z
UID:4193-1676556000-1676563200@www.korskyrkanuppsala.se
SUMMARY:Café Korskyrkan
DESCRIPTION:Välkommen till Café Korskyrkan – ett bra tillfälle att öva svenska och lära känna nya vänner. \nTorsdagar\, kl. 14-16 i Korskyrkan Uppsala.
URL:https://www.korskyrkanuppsala.se/kalender/cafe-korskyrkan-13/
ATTACH;FMTTYPE=image/png:https://www.korskyrkanuppsala.se/wp-content/uploads/2022/12/Sprakcafe-5.png
END:VEVENT
BEGIN:VEVENT
DTSTART;TZID=Europe/Paris:20230217T100000
DTEND;TZID=Europe/Paris:20230217T120000
DTSTAMP:20260424T215815
CREATED:20221213T132816Z
LAST-MODIFIED:20221213T132816Z
UID:4063-1676628000-1676635200@www.korskyrkanuppsala.se
SUMMARY:Fredagsbön
DESCRIPTION:Fredagsbönen möts varje fredag i kyrkan kl 10. Kom och var med och be en timme eller två.
URL:https://www.korskyrkanuppsala.se/kalender/fredagsbon-49/
END:VEVENT
BEGIN:VEVENT
DTSTART;TZID=Europe/Paris:20230217T190000
DTEND;TZID=Europe/Paris:20230217T230000
DTSTAMP:20260424T215815
CREATED:20221220T084850Z
LAST-MODIFIED:20221220T084850Z
UID:4088-1676660400-1676674800@www.korskyrkanuppsala.se
SUMMARY:Club Växa
DESCRIPTION:
URL:https://www.korskyrkanuppsala.se/kalender/club-vaxa-34/
END:VEVENT
BEGIN:VEVENT
DTSTART;TZID=Europe/Paris:20230219T110000
DTEND;TZID=Europe/Paris:20230219T123000
DTSTAMP:20260424T215815
CREATED:20221213T132529Z
LAST-MODIFIED:20221213T132529Z
UID:4057-1676804400-1676809800@www.korskyrkanuppsala.se
SUMMARY:Gudstjänst\, kl. 11
DESCRIPTION:
URL:https://www.korskyrkanuppsala.se/kalender/gudstjanst-kl-11-52/
END:VEVENT
BEGIN:VEVENT
DTSTART;TZID=Europe/Paris:20230221T183000
DTEND;TZID=Europe/Paris:20230221T203000
DTSTAMP:20260424T215815
CREATED:20230111T141521Z
LAST-MODIFIED:20230111T141521Z
UID:4165-1677004200-1677011400@www.korskyrkanuppsala.se
SUMMARY:Alpha
DESCRIPTION:
URL:https://www.korskyrkanuppsala.se/kalender/alpha-11/
ATTACH;FMTTYPE=image/jpeg:https://www.korskyrkanuppsala.se/wp-content/uploads/2023/01/Instagram_-Alpha.P02.jpeg
END:VEVENT
BEGIN:VEVENT
DTSTART;TZID=Europe/Paris:20230223T140000
DTEND;TZID=Europe/Paris:20230223T160000
DTSTAMP:20260424T215815
CREATED:20230112T133651Z
LAST-MODIFIED:20230112T133651Z
UID:4195-1677160800-1677168000@www.korskyrkanuppsala.se
SUMMARY:Café Korskyrkan
DESCRIPTION:Välkommen till Café Korskyrkan – ett bra tillfälle att öva svenska och lära känna nya vänner. \nTorsdagar\, kl. 14-16 i Korskyrkan Uppsala.
URL:https://www.korskyrkanuppsala.se/kalender/cafe-korskyrkan-14/
ATTACH;FMTTYPE=image/png:https://www.korskyrkanuppsala.se/wp-content/uploads/2022/12/Sprakcafe-5.png
END:VEVENT
BEGIN:VEVENT
DTSTART;TZID=Europe/Paris:20230224T100000
DTEND;TZID=Europe/Paris:20230224T120000
DTSTAMP:20260424T215815
CREATED:20221213T132846Z
LAST-MODIFIED:20221213T132846Z
UID:4065-1677232800-1677240000@www.korskyrkanuppsala.se
SUMMARY:Fredagsbön
DESCRIPTION:Fredagsbönen möts varje fredag i kyrkan kl 10. Kom och var med och be en timme eller två.
URL:https://www.korskyrkanuppsala.se/kalender/fredagsbon-50/
END:VEVENT
BEGIN:VEVENT
DTSTART;TZID=Europe/Paris:20230224T190000
DTEND;TZID=Europe/Paris:20230224T230000
DTSTAMP:20260424T215815
CREATED:20221220T084913Z
LAST-MODIFIED:20221220T084913Z
UID:4090-1677265200-1677279600@www.korskyrkanuppsala.se
SUMMARY:Club Växa
DESCRIPTION:
URL:https://www.korskyrkanuppsala.se/kalender/club-vaxa-35/
END:VEVENT
BEGIN:VEVENT
DTSTART;TZID=Europe/Paris:20230226T100000
DTEND;TZID=Europe/Paris:20230226T120000
DTSTAMP:20260424T215815
CREATED:20221213T132624Z
LAST-MODIFIED:20221213T132624Z
UID:4059-1677405600-1677412800@www.korskyrkanuppsala.se
SUMMARY:Gudstjänst\, kl. 11
DESCRIPTION:
URL:https://www.korskyrkanuppsala.se/kalender/gudstjanst-kl-11-53/
END:VEVENT
BEGIN:VEVENT
DTSTART;TZID=Europe/Paris:20230228T183000
DTEND;TZID=Europe/Paris:20230228T203000
DTSTAMP:20260424T215815
CREATED:20230111T141552Z
LAST-MODIFIED:20230111T141552Z
UID:4167-1677609000-1677616200@www.korskyrkanuppsala.se
SUMMARY:Alpha
DESCRIPTION:
URL:https://www.korskyrkanuppsala.se/kalender/alpha-12/
ATTACH;FMTTYPE=image/jpeg:https://www.korskyrkanuppsala.se/wp-content/uploads/2023/01/Instagram_-Alpha.P02.jpeg
END:VEVENT
END:VCALENDAR